BEGIN:VCALENDAR
VERSION:2.0
PRODID:-//Dòng Chúa Cứu Thế Hải Ngoại - ECPv6.15.20//NONSGML v1.0//EN
CALSCALE:GREGORIAN
METHOD:PUBLISH
X-WR-CALNAME:Dòng Chúa Cứu Thế Hải Ngoại
X-ORIGINAL-URL:https://dongchuacuuthe.us
X-WR-CALDESC:Events for Dòng Chúa Cứu Thế Hải Ngoại
REFRESH-INTERVAL;VALUE=DURATION:PT1H
X-Robots-Tag:noindex
X-PUBLISHED-TTL:PT1H
BEGIN:VTIMEZONE
TZID:America/Los_Angeles
BEGIN:DAYLIGHT
TZOFFSETFROM:-0800
TZOFFSETTO:-0700
TZNAME:PDT
DTSTART:20220313T100000
END:DAYLIGHT
BEGIN:STANDARD
TZOFFSETFROM:-0700
TZOFFSETTO:-0800
TZNAME:PST
DTSTART:20221106T090000
END:STANDARD
BEGIN:DAYLIGHT
TZOFFSETFROM:-0800
TZOFFSETTO:-0700
TZNAME:PDT
DTSTART:20230312T100000
END:DAYLIGHT
BEGIN:STANDARD
TZOFFSETFROM:-0700
TZOFFSETTO:-0800
TZNAME:PST
DTSTART:20231105T090000
END:STANDARD
BEGIN:DAYLIGHT
TZOFFSETFROM:-0800
TZOFFSETTO:-0700
TZNAME:PDT
DTSTART:20240310T100000
END:DAYLIGHT
BEGIN:STANDARD
TZOFFSETFROM:-0700
TZOFFSETTO:-0800
TZNAME:PST
DTSTART:20241103T090000
END:STANDARD
END:VTIMEZONE
BEGIN:VEVENT
DTSTART;VALUE=DATE:20230623
DTEND;VALUE=DATE:20230624
DTSTAMP:20260425T071800
CREATED:20230522T050911Z
LAST-MODIFIED:20230522T051612Z
UID:7426-1687478400-1687564799@dongchuacuuthe.us
SUMMARY:Thứ Sáu Tuần XI Thường Niên Năm I
DESCRIPTION:BÀI ĐỌC I: 2 Cr 11\, 18. 21b-30 \n“Không kể những việc bên ngoài\, lại còn những việc thúc bách hằng ngày và mối lo lắng đến các Giáo hội”. \nTrích thư thứ hai của Thánh Phaolô Tông đồ gửi tín hữu Côrintô. \nAnh em thân mến\, vì có nhiều kẻ khoe khoang về xác thịt\, thì tôi đây\, tôi cũng sẽ tự khoe khoang. Tôi xin nói như điên dại rằng: ai tự phụ về điều gì\, thì tôi cũng tự phụ như vậy. Họ là những người Do-thái\, thì tôi cũng vậy; họ là những người Israel\, thì tôi cũng vậy; họ là dòng dõi Abraham\, thì tôi cũng vậy; họ là tôi tớ Đức Kitô\, tôi xin nói như mê sảng rằng: tôi còn hơn họ nữa\, tôi đã chịu khó nhọc hơn\, năng bị tù hơn\, chịu đòn vọt quá mức\, liều mình chết nhiều lần\, bị người Do-thái đánh đòn năm lần\, mỗi lần kém một roi đầy bốn chục. Ba lần bị tra tấn\, một lần bị ném đá\, ba lần bị đắm tàu\, và một ngày một đêm chơi vơi ngoài biển khơi. Hành trình thường xuyên\, gặp nhiều nguy hiểm vì sông ngòi\, nguy hiểm vì trộm cướp\, nguy hiểm vì người đồng chủng\, nguy hiểm vì người dân ngoại\, nguy hiểm trong thành phố\, nguy hiểm trên rừng\, nguy hiểm ngoài biển cả\, nguy hiểm bởi những anh em giả; chịu lao đao vất vả\, hay phải thức khuya\, đói khát\, hay phải nhịn ăn\, chịu lạnh rét\, mình trần. Không kể những việc bên ngoài\, lại còn những việc thúc bách hằng ngày\, và mối lo lắng đến các giáo hội. Nào ai yếu đuối mà tôi không yếu đuối? Nào ai vấp phạm mà tôi chẳng xót xa? Nếu phải khoe khoang\, thì tôi sẽ khoe khoang những yếu đuối của tôi. Đó là lời Chúa. \nĐÁP CA: Tv 33\, 2-3. 4-5. 6-7 \nĐáp: Thiên Chúa cứu người hiền đức khỏi mọi nỗi lo âu (x. c. 18b). \nXướng: 1) Tôi chúc tụng Chúa trong mọi lúc\, miệng tôi hằng liên lỉ ngợi khen Người. Trong Chúa linh hồn tôi hãnh diện\, bạn nghèo hãy nghe và hãy mừng vui. – Đáp. \n2) Các bạn hãy cùng tôi ca ngợi Chúa\, cùng nhau ta hãy tán tạ danh Người. Tôi cầu khẩn Chúa\, Chúa đã nhậm lời\, và Người đã cứu tôi khỏi mọi điều lo sợ. – Đáp. \n3) Hãy nhìn về Chúa để các bạn vui tươi\, và các bạn khỏi hổ ngươi bẽ mặt. Kìa người đau khổ cầu cứu và Chúa đã nghe\, và Người đã cứu họ khỏi mọi điều tai nạn. – Đáp. \nALLELUIA: Ga 8\, 12 \nAlleluia\, alleluia! – Chúa phán: “Ta là sự sáng thế gian\, ai theo Ta\, sẽ được ánh sáng ban sự sống”. – Alleluia. \nPHÚC ÂM: Mt 6\, 19-23 \n“Kho tàng con ở đâu\, thì lòng con cũng ở đó”. \nTin Mừng Chúa Giêsu Kitô theo Thánh Matthêu. \nKhi ấy\, Chúa Giêsu phán cùng các môn đệ rằng: “Các con đừng tích trữ cho mình kho tàng dưới đất: là nơi ten sét mối mọt sẽ làm hư nát\, và trộm cướp sẽ đào ngạch lấy mất\, nhưng các con hãy tích trữ cho mình kho tàng trên trời: là nơi không có ten sét\, mối mọt không làm hư nát\, trộm cướp không đào ngạch lấy mất: Vì kho tàng con ở đâu\, thì lòng con cũng ở đó. Con mắt là đèn soi cho thân xác con. Nếu mắt con trong sáng\, thì toàn thân con được sáng. Nhưng nếu mắt con xấu kém\, thì toàn thân con phải tối tăm. Vậy nếu sự sáng trong con tối tăm\, thì chính sự tối tăm\, sẽ ra tối tăm biết chừng nào?” Đó là lời Chúa. \nTHỨ SÁU TUẦN 11 TN\nMt 6\,19-23\nCỦA Ở ĐÂU\, LÒNG TRÍ Ở ĐÓ \n“Anh em đừng tích trữ cho mình những kho tàng dưới đất… nhưng hãy tích trữ cho mình những kho tàng trên trời.”(Mt 6\,19-20) \nSuy niệm: Khi người ta đang chú tâm tìm kiếm hay tập trung suy nghĩ về một điều gì thì ngay cả những cái sờ sờ trước mắt có khi vẫn không nhìn thấy. Vì thế\, không ít người bị hiểu lầm là sao thấy người quen mà làm lơ hoặc sao gật đầu chào mà không đáp lại. Tương tự như vậy\, chúng ta thường nghĩ “những sự trên trời” là những gì quá xa vời; nhưng một khi chúng ta quá lo lắng tích trữ cho mình những kho tàng ở dưới đất thì còn tâm trí đâu mà để ý tới kho tàng thiêng liêng ấy nữa. Bởi vì kho tàng của chúng ta ở đâu thì lòng trí của chúng ta sẽ ở đó. \nMời Bạn: Tiền của\, danh vọng\, kiến thức là những điều thế gian đang tìm kiếm\, là những thứ tưởng rằng đem lại sự bảo đảm vững chắc\, nhưng thực ra lại rất mong manh\, dễ mất. Thế nhưng chúng lại có sức hút rất mạnh\, chiếm được rồi thì không muốn nhả\, đã có rồi lại muốn có thêm. Chỉ khi nào bạn dám “bán tài sản của mình đi mà bố thí” thì lúc ấy tâm trí của bạn mới thanh thản để chú tâm tìm kiếm “kho tàng không thể hao hụt ở trên trời\,” nơi không còn trộm cắp\, mối mọt (Lc 12\,33). \nChia sẻ: Điều gì khiến bạn bận tâm nhất và chiếm phần lớn thời gian trong ngày sống của bạn? \nSống Lời Chúa: Hoạch định lại chương trình sống cho bản thân theo tiêu chí: “Trước hết hãy tìm kiếm Nước Thiên Chúa”(x. Lc 12\,31). \nCầu nguyện:Lạy Chúa\, suốt cả ngày con toàn bận rộn với những chuyện cơm\, áo\, gạo\, tiền. Xin cho con biết tìm kiếm Nước Thiên Chúa trước và luôn tin tưởng vào Thiên Chúa quan phòng.
URL:https://dongchuacuuthe.us/calendar/thu-nam-tuan-xi-thuong-nien-nam-i-2/
END:VEVENT
BEGIN:VEVENT
DTSTART;VALUE=DATE:20230623
DTEND;VALUE=DATE:20230624
DTSTAMP:20260425T071800
CREATED:20230522T055922Z
LAST-MODIFIED:20230522T055922Z
UID:7510-1687478400-1687564799@dongchuacuuthe.us
SUMMARY:Friday of the Eleventh Week in Ordinary Time
DESCRIPTION:Reading 1\n2 Cor 11:18\, 21-30\n\nBrothers and sisters:\nSince many boast according to the flesh\, I too will boast.\nTo my shame I say that we were too weak! \nBut what anyone dares to boast of\n(I am speaking in foolishness)\nI also dare.\nAre they Hebrews? So am I.\nAre they children of Israel? So am I.\nAre they descendants of Abraham? So am I.\nAre they ministers of Christ?\n(I am talking like an insane person).\nI am still more\, with far greater labors\,\nfar more imprisonments\, far worse beatings\,\nand numerous brushes with death.\nFive times at the hands of the Jews\nI received forty lashes minus one.\nThree times I was beaten with rods\, once I was stoned\,\nthree times I was shipwrecked\,\nI passed a night and a day on the deep;\non frequent journeys\, in dangers from rivers\,\ndangers from robbers\, dangers from my own race\,\ndangers from Gentiles\, dangers in the city\,\ndangers in the wilderness\, dangers at sea\,\ndangers among false brothers;\nin toil and hardship\, through many sleepless nights\,\nthrough hunger and thirst\, through frequent fastings\,\nthrough cold and exposure.\nAnd apart from these things\, there is the daily pressure upon me\nof my anxiety for all the churches.\nWho is weak\, and I am not weak?\nWho is led to sin\, and I am not indignant? \nIf I must boast\, I will boast of the things that show my weakness. \n\n\n\n\n\n\n\n\n\n\n\nResponsorial Psalm\nPS 34:2-3\, 4-5\, 6-7\n\nR. (see 18b) From all their distress God rescues the just.\nI will bless the LORD at all times;\nhis praise shall be ever in my mouth.\nLet my soul glory in the LORD;\nthe lowly will hear me and be glad.\nR. From all their distress God rescues the just.\nGlorify the LORD with me\,\nlet us together extol his name.\nI sought the LORD\, and he answered me\nand delivered me from all my fears.\nR. From all their distress God rescues the just.\nLook to him that you may be radiant with joy\,\nand your faces may not blush with shame.\nWhen the poor one called out\, the LORD heard\,\nand from all his distress he saved him.\nR. From all their distress God rescues the just.\n\n\n\n\n\n\n\n\n\n\n\nAlleluia\nMt 5:3\n\nR. Alleluia\, alleluia.\nBlessed are the poor in spirit;\nfor theirs is the Kingdom of heaven.\nR. Alleluia\, alleluia.\n\n\n\n\n\n\n\n\n\n\n\nGospel\nMt 6:19-23\n\nJesus said to his disciples:\n“Do not store up for yourselves treasures on earth\,\nwhere moth and decay destroy\, and thieves break in and steal.\nBut store up treasures in heaven\,\nwhere neither moth nor decay destroys\, nor thieves break in and steal.\nFor where your treasure is\, there also will your heart be. \n“The lamp of the body is the eye.\nIf your eye is sound\, your whole body will be filled with light;\nbut if your eye is bad\, your whole body will be in darkness.\nAnd if the light in you is darkness\, how great will the darkness be.”
URL:https://dongchuacuuthe.us/calendar/friday-of-the-eleventh-week-in-ordinary-time/
END:VEVENT
END:VCALENDAR