BEGIN:VCALENDAR
VERSION:2.0
PRODID:-//Dòng Chúa Cứu Thế Hải Ngoại - ECPv6.15.20//NONSGML v1.0//EN
CALSCALE:GREGORIAN
METHOD:PUBLISH
X-WR-CALNAME:Dòng Chúa Cứu Thế Hải Ngoại
X-ORIGINAL-URL:https://dongchuacuuthe.us
X-WR-CALDESC:Events for Dòng Chúa Cứu Thế Hải Ngoại
REFRESH-INTERVAL;VALUE=DURATION:PT1H
X-Robots-Tag:noindex
X-PUBLISHED-TTL:PT1H
BEGIN:VTIMEZONE
TZID:America/Los_Angeles
BEGIN:DAYLIGHT
TZOFFSETFROM:-0800
TZOFFSETTO:-0700
TZNAME:PDT
DTSTART:20220313T100000
END:DAYLIGHT
BEGIN:STANDARD
TZOFFSETFROM:-0700
TZOFFSETTO:-0800
TZNAME:PST
DTSTART:20221106T090000
END:STANDARD
BEGIN:DAYLIGHT
TZOFFSETFROM:-0800
TZOFFSETTO:-0700
TZNAME:PDT
DTSTART:20230312T100000
END:DAYLIGHT
BEGIN:STANDARD
TZOFFSETFROM:-0700
TZOFFSETTO:-0800
TZNAME:PST
DTSTART:20231105T090000
END:STANDARD
BEGIN:DAYLIGHT
TZOFFSETFROM:-0800
TZOFFSETTO:-0700
TZNAME:PDT
DTSTART:20240310T100000
END:DAYLIGHT
BEGIN:STANDARD
TZOFFSETFROM:-0700
TZOFFSETTO:-0800
TZNAME:PST
DTSTART:20241103T090000
END:STANDARD
END:VTIMEZONE
BEGIN:VEVENT
DTSTART;VALUE=DATE:20230621
DTEND;VALUE=DATE:20230622
DTSTAMP:20260425T071801
CREATED:20230522T050749Z
LAST-MODIFIED:20230522T050749Z
UID:7422-1687305600-1687391999@dongchuacuuthe.us
SUMMARY:Thứ Tư Tuần XI Thường Niên Năm I
DESCRIPTION:BÀI ĐỌC I: 2 Cr 9\, 6-11 \n“Thiên Chúa yêu thương kẻ cho cách vui lòng”. \nTrích thư thứ hai của Thánh Phaolô Tông đồ gửi tín hữu Côrintô. \nAnh em thân mến\, ai gieo ít\, thì gặt ít. Ai gieo nhiều thì gặt nhiều. Mỗi người hãy cho theo như lòng đã định\, không phải cách buồn rầu\, hoặc miễn cưỡng: Thiên Chúa yêu thương kẻ cho cách vui lòng. Thiên Chúa có quyền cho anh em được dư tràn mọi ân phúc: để anh em vừa luôn luôn sung túc mọi mặt\, vừa còn được dư dật để làm các thứ việc phúc đức\, như đã chép rằng: “Người đã rộng tay bố thí cho kẻ nghèo khó\, đức công chính của Người sẽ tồn tại muôn đời”. Đấng đã cung cấp hạt giống cho kẻ gieo\, và bánh để nuôi mình\, thì cũng sẽ cung cấp cho anh em hạt giống dư đầy\, và sẽ làm phát triển hoa quả sự công chính của anh em. Như thế\, anh em được giàu có mọi bề\, để thi hành mọi việc bác ái; qua tay chúng tôi\, phúc đức đó sẽ làm phát sinh lời cảm tạ Thiên Chúa. Đó là lời Chúa. \nĐÁP CA: Tv 111\, 1-2. 3-4. 9 \nĐáp: Phúc đức thay người tôn sợ Chúa (c. 1a). \nHoặc đọc: Alleluia. \nXướng: 1) Phúc đức thay người tôn sợ Chúa\, người hết lòng ham mộ luật pháp của Ngài. Con cháu ngươi sẽ hùng cường trong Đất Nước: thiên hạ sẽ chúc phúc cho dòng dõi hiền nhân. – Đáp. \n2) Trong nhà người có tài sản phú quý\, và lòng quảng đại người còn mãi muôn đời. Trong u tối người xuất hiện như ánh sáng soi kẻ lòng ngay\, người nhân hậu\, từ bi và công chính. – Đáp. \n3) Người ban phát và bố thí cho những kẻ nghèo\, lòng quảng đại của người muôn đời còn mãi\, sừng người được ngẩng lên trong vinh quang. – Đáp. \nALLELUIA: Tv 94\, 8ab \nAlleluia\, alleluia! – Ước chi hôm nay các bạn nghe tiếng Chúa\, và đừng cứng lòng. – Alleluia. \nPHÚC ÂM: Mt 6\, 1-6. 16-18 \n“Cha ngươi Đấng thấu suốt mọi bí ẩn\, sẽ trả công cho ngươi”. \nTin Mừng Chúa Giêsu Kitô theo Thánh Matthêu. \nKhi ấy\, Chúa Giêsu phán cùng các môn đệ rằng: “Các con hãy cẩn thận\, đừng phô trương công đức trước mặt người ta để thiên hạ trông thấy\, bằng không\, các con mất công phúc nơi Cha các con là Đấng ở trên trời. Vậy khi các con bố thí\, thì đừng thổi loa báo trước\, như bọn giả hình làm ở nơi hội đường và phố xá\, để cho người ta ca tụng họ. Quả thật\, Ta bảo các con\, họ đã được thưởng công rồi. Còn con có bố thí\, thì làm sao đừng để tay trái biết việc tay phải làm\, để việc con bố thí được giữ kín\, và Cha con\, Đấng thấu suốt mọi bí ẩn\, sẽ trả công cho con.  \n“Rồi khi các con cầu nguyện\, thì cũng chớ làm như những kẻ giả hình: họ ưa đứng cầu nguyện giữa hội đường và các ngả đàng\, để thiên hạ trông thấy. Quả thật\, Ta bảo các con: họ đã được thưởng công rồi. Còn con khi cầu nguyện\, thì hãy vào phòng đóng cửa lại mà cầu xin với Cha con\, Đấng ngự nơi bí ẩn\, và Cha con\, Đấng thấu suốt mọi bí ẩn\, sẽ trả công cho con.  \n“Khi các con ăn chay\, thì đừng làm như bọn giả hình thiểu não: họ làm cho mặt mũi ủ dột\, để có vẻ ăn chay trước mặt người ta. Quả thật\, Ta bảo các con\, họ đã được thưởng công rồi. Còn con khi ăn chay\, hãy xức dầu thơm trên đầu và rửa mặt\, để thiên hạ không biết con ăn chay\, nhưng chỉ tỏ ra cho Cha con Đấng ngự nơi bí ẩn\, và Cha con thấu suốt mọi bí ẩn\, sẽ trả công cho con”.  \nĐó là lời Chúa. \nTHỨ TƯ TUẦN 11 TN\nMt 6\,1-6.16-18\nPHẦN THƯỞNG LỚN TỪ CHÚA \nĐức Giê-su nói: “Và Cha của anh\, Đấng thấu suốt những gì kín đáo\, sẽ trả công cho anh.” (Mt 6\,4) \nSuy niệm: Kết thúc một mùa bóng\, những đội tuyển không chỉ giành được huy chương vàng\, bạc\, đồng còn được những món tiền thưởng hậu hĩnh. Ngoài ra\, các cầu thủ xuất sắc còn nhận được những lời khen tặng từ báo chí và người hâm mộ. Đây cũng là một phần thưởng không kém quan trọng đối với họ. Người con cái Chúa cũng vậy\, trong “90 phút thi đấu của cuộc đời\,” họ cũng phải tỏ ra là những vận động viên xuất sắc\, qua “ba môn điền kinh phối hợp” truyền thống là cầu nguyện\, ăn chay và làm việc bác ái. Nếu có ý làm để khoe khoang\, nhằm cho “thiên hạ thấy\,” thì phần thưởng của họ là lời khen tiếng phục và rồi chấm hết! Còn nếu thực hiện cách âm thầm\, chỉ qui hướng về Chúa\, được Đức Giê-su diễn tả qua kiểu nói “đừng cho tay trái biết việc tay phải làm” hay “vào phòng\, đóng cửa lại”\, thì chính Thiên Chúa sẽ là Đấng trả công bội hậu cho họ. \nMời Bạn: “Sau một ngày làm được nhiều việc\, giấc ngủ sẽ ngon lành. Sau một đời làm được nhiều việc\, cái chết sẽ bình thản” (L. Da Vinci). Đối với người Ki-tô hữu\, “nhiều việc” vẫn chưa đủ\, vì còn phải kể đến ý hướng khi làm các việc đó. Ý hướng trong sáng\, quy hướng về Chúa\, thì các việc lành phúc đức của bạn mới được chúc lành và ghi nhận. \nSống Lời Chúa: Điều chỉnh lại ý hướng khi làm các việc cầu nguyện\, ăn chay và bác ái cho đúng thánh ý Chúa. \nCầu nguyện: Lạy Chúa Giê-su\, chúng con thường thích được người khác khen ngợi. Xu hướng này thâm nhập cả vào các việc đạo đức và làm hỏng các việc đạo đức ấy. Xin cho chúng con biết điều chỉnh lại ý hướng là chỉ biết làm vì lòng yêu mến Chúa mà thôi. Amen.
URL:https://dongchuacuuthe.us/calendar/thu-tu-tuan-xi-thuong-nien-nam-i/
END:VEVENT
BEGIN:VEVENT
DTSTART;VALUE=DATE:20230621
DTEND;VALUE=DATE:20230622
DTSTAMP:20260425T071801
CREATED:20230522T055829Z
LAST-MODIFIED:20230522T055829Z
UID:7506-1687305600-1687391999@dongchuacuuthe.us
SUMMARY:Memorial of Saint Aloysius Gonzaga\, Religious
DESCRIPTION:Reading 1\n2 Cor 9:6-11\n\nBrothers and sisters\, consider this:\nwhoever sows sparingly will also reap sparingly\,\nand whoever sows bountifully will also reap bountifully.\nEach must do as already determined\, without sadness or compulsion\,\nfor God loves a cheerful giver.\nMoreover\, God is able to make every grace abundant for you\,\nso that in all things\, always having all you need\,\nyou may have an abundance for every good work.\nAs it is written: \nHe scatters abroad\, he gives to the poor;\nhis righteousness endures forever. \nThe one who supplies seed to the sower and bread for food\nwill supply and multiply your seed\nand increase the harvest of your righteousness. \nYou are being enriched in every way for all generosity\,\nwhich through us produces thanksgiving to God. \n\n\n\n\n\n\n\n\n\n\n\nResponsorial Psalm\nPs 112:1bc-2\, 3-4\, 9\n\nR. (1b) Blessed the man who fears the Lord.\nor:\nR. Alleluia.\nBlessed the man who fears the LORD\,\nwho greatly delights in his commands.\nHis posterity shall be mighty upon the earth;\nthe upright generation shall be blessed.\nR. Blessed the man who fears the Lord.\nor:\nR. Alleluia.\nWealth and riches shall be in his house;\nhis generosity shall endure forever.\nLight shines through the darkness for the upright;\nhe is gracious and merciful and just.\nR. Blessed the man who fears the Lord.\nor:\nR. Alleluia.\nLavishly he gives to the poor;\nhis generosity shall endure forever;\nhis horn shall be exalted in glory.\nR. Blessed the man who fears the Lord.\nor:\nR. Alleluia.\n\n\n\n\n\n\n\n\n\n\n\nAlleluia\nJn 14:23\n\nR. Alleluia\, alleluia.\nWhoever loves me will keep my word\,\nand my Father will love him\nand we will come to him.\nR. Alleluia\, alleluia.\n\n\n\n\n\n\n\n\n\n\n\nGospel\nMt 6:1-6\, 16-18\n\nJesus said to his disciples:\n“Take care not to perform righteous deeds\nin order that people may see them;\notherwise\, you will have no recompense from your heavenly Father.\nWhen you give alms\, do not blow a trumpet before you\,\nas the hypocrites do in the synagogues and in the streets\nto win the praise of others.\nAmen\, I say to you\, they have received their reward.\nBut when you give alms\,\ndo not let your left hand know what your right is doing\,\nso that your almsgiving may be secret.\nAnd your Father who sees in secret will repay you. \n“When you pray\, do not be like the hypocrites\,\nwho love to stand and pray in the synagogues and on street corners\nso that others may see them.\nAmen\, I say to you\, they have received their reward.\nBut when you pray\, go to your inner room\, close the door\,\nand pray to your Father in secret.\nAnd your Father who sees in secret will repay you. \n“When you fast\, do not look gloomy like the hypocrites.\nThey neglect their appearance\,\nso that they may appear to others to be fasting.\nAmen\, I say to you\, they have received their reward.\nBut when you fast\, anoint your head and wash your face\,\nso that you may not appear to others to be fasting\,\nexcept to your Father who is hidden.\nAnd your Father who sees what is hidden will repay you.”
URL:https://dongchuacuuthe.us/calendar/memorial-of-saint-aloysius-gonzaga-religious/
END:VEVENT
END:VCALENDAR