BEGIN:VCALENDAR
VERSION:2.0
PRODID:-//Dòng Chúa Cứu Thế Hải Ngoại - ECPv6.15.20//NONSGML v1.0//EN
CALSCALE:GREGORIAN
METHOD:PUBLISH
X-WR-CALNAME:Dòng Chúa Cứu Thế Hải Ngoại
X-ORIGINAL-URL:https://dongchuacuuthe.us
X-WR-CALDESC:Events for Dòng Chúa Cứu Thế Hải Ngoại
REFRESH-INTERVAL;VALUE=DURATION:PT1H
X-Robots-Tag:noindex
X-PUBLISHED-TTL:PT1H
BEGIN:VTIMEZONE
TZID:America/Los_Angeles
BEGIN:DAYLIGHT
TZOFFSETFROM:-0800
TZOFFSETTO:-0700
TZNAME:PDT
DTSTART:20220313T100000
END:DAYLIGHT
BEGIN:STANDARD
TZOFFSETFROM:-0700
TZOFFSETTO:-0800
TZNAME:PST
DTSTART:20221106T090000
END:STANDARD
BEGIN:DAYLIGHT
TZOFFSETFROM:-0800
TZOFFSETTO:-0700
TZNAME:PDT
DTSTART:20230312T100000
END:DAYLIGHT
BEGIN:STANDARD
TZOFFSETFROM:-0700
TZOFFSETTO:-0800
TZNAME:PST
DTSTART:20231105T090000
END:STANDARD
BEGIN:DAYLIGHT
TZOFFSETFROM:-0800
TZOFFSETTO:-0700
TZNAME:PDT
DTSTART:20240310T100000
END:DAYLIGHT
BEGIN:STANDARD
TZOFFSETFROM:-0700
TZOFFSETTO:-0800
TZNAME:PST
DTSTART:20241103T090000
END:STANDARD
END:VTIMEZONE
BEGIN:VEVENT
DTSTART;VALUE=DATE:20230619
DTEND;VALUE=DATE:20230620
DTSTAMP:20260425T071800
CREATED:20230522T050648Z
LAST-MODIFIED:20230522T050648Z
UID:7418-1687132800-1687219199@dongchuacuuthe.us
SUMMARY:Thứ Hai Tuần XI Thường Niên Năm I
DESCRIPTION:BÀI ĐỌC I: 2 Cr 6\, 1-10 \n“Chúng tôi chứng tỏ mình là những người phục vụ Thiên Chúa”. \nTrích thư thứ hai của Thánh Phaolô Tông đồ gửi tín hữu Côrintô. \nAnh em thân mến\, với tư cách là những người cộng sự với Chúa Giêsu\, chúng tôi khuyên anh em đừng nhận lấy ơn của Thiên Chúa một cách vô ích. Quả thật Chúa phán: “Dịp thuận tiện đến\, Ta đã nhậm lời ngươi\, vào ngày cứu thoát\, Ta đã cứu vớt ngươi”. Bây giờ là cơ hội thuận tiện\, giờ đây là ngày cứu thoát. Chúng tôi không hề làm cớ cho ai phải vấp phạm\, để công việc phục vụ của chúng tôi khỏi bị đàm tiếu. Nhưng trong mọi sự\, chúng tôi chứng tỏ mình là những người phục vụ Thiên Chúa\, với hết lòng kiên nhẫn: trong gian truân thiếu thốn\, nguy khốn\, đòn vọt\, tù đày\, biến loạn\, khó nhọc\, nhịn ăn\, nhịn ngủ với lòng thanh khiết\, am hiểu\, đại lượng\, dịu dàng\, bằng sức mạnh Thánh Thần\, bằng lòng yêu thương không giả dối\, bằng lời chân thật\, và bằng quyền năng Thiên Chúa; nhờ khí giới công chính bên tả bên hữu; trải qua vinh quang cũng như tủi nhục\, tiếng xấu cũng như tiếng tốt\, bị coi là phường bịp bợm\, mặc dầu là chân thành; bị coi là vô danh\, nhưng hằng được biết đến; bị coi là đang giẫy chết\, nhưng này chúng tôi vẫn sống; bị coi như bị gia hình\, mà nào đã chết đâu; bị coi như phải ưu sầu\, nhưng chúng tôi vẫn luôn an vui; bị coi là kẻ nghèo túng\, nhưng chúng tôi lại làm cho nhiều người được giàu có; bị coi như không có gì\, nhưng chúng tôi làm chủ tất cả. Đó là lời Chúa. \nĐÁP CA: Tv 97\, 1. 2-3ab. 3cd-4 \nĐáp: Chúa đã công bố ơn cứu độ của Người (c. 2a). \nXướng: 1) Hãy ca mừng Chúa một bài ca mới\, vì Người đã làm nên những điều huyền diệu. Tay hữu Người đã tạo cho Người cuộc chiến thắng\, cùng với cánh tay thánh thiện của Người. – Đáp. \n2) Chúa đã công bố ơn cứu độ của Người\, trước mặt chư dân Người tỏ rõ đức công minh. Người đã nhớ lại lòng nhân hậu và trung thành\, để sủng ái nhà Israel. – Đáp. \n3) Khắp nơi bờ cõi địa cầu đã nhìn thấy ơn cứu độ của Thiên Chúa chúng ta. Toàn thể địa cầu hãy reo mừng Chúa\, hãy hoan hỉ\, mừng vui và đàn ca. – Đáp. \nALLELUIA: 1 Sm 3\, 9 \nAlleluia\, alleluia! – Lạy Chúa\, xin hãy phán\, vì tôi tớ Chúa đang lắng tai nghe. Chúa có lời ban sự sống đời đời. – Alleluia. \nPHÚC ÂM: Mt 5\, 38-42 \n“Thầy bảo các con: đừng chống cự lại với kẻ hung ác”. \nTin Mừng Chúa Giêsu Kitô theo Thánh Matthêu. \nKhi ấy\, Chúa Giêsu phán cùng các môn đệ rằng: “Các con đã nghe bảo: ‘Mắt đền mắt\, răng đền răng’. Còn Thầy\, Thầy bảo các con: đừng chống cự lại với kẻ hung ác; trái lại\, nếu ai vả má bên phải của con\, thì hãy đưa má bên kia cho nó nữa. Và ai muốn kiện con để đoạt áo trong của con\, thì hãy trao cho nó cả áo choàng nữa. Và ai bắt con đi một dặm\, thì con hãy đi với nó hai dặm. Ai xin\, thì con hãy cho. Ai muốn vay mượn\, thì con đừng khước từ”. Đó là lời Chúa. \nTHỨ HAI TUẦN 11 TN\nMt 5\,38-42\nSỨC MẠNH VÀ LÒNG BAO DUNG \n“Thầy bảo anh em\, đừng chống cự người ác\, trái lại\, nếu ai vả má bên phải thì hãy giơ cả má bên trái ra nữa.” (Mt 5\,39) \nSuy niệm: Tổ chức\, đoàn thể nào cũng có điều lệ\, nội quy\, không chỉ để ấn định nghĩa vụ của thành viên mà còn để bảo vệ quyền lợi chính đáng của họ. Chúa Ki-tô cũng đề ra một nội quy cho cộng đoàn các môn đệ của Ngài. Thế nhưng nội quy ấy xem ra đặt họ vào thế lép vế phải cam chịu một bề cho người ta ‘bắt nạt’: nào là “đừng chống cự người ác” nào là “ai vả má phải thì giơ cả má trái”. Thực ra Đức Giê-su đưa ra cho các môn đệ một phương thức ứng xử đặc biệt của Ngài trong tương quan với anh chị em của mình\, một phương thức vừa đòi hỏi sức mạnh tâm hồn vừa phải có tấm lòng bao dung. Quả thật\, trong cuộc khổ nạn\, Chúa Giê-su đã cho thấy cách Ngài vận dụng phương thức này. Khi bị một tên thuộc hạ của thượng tế vả vào mặt\, Ngài không giơ luôn má kia mà lại chất vấn: “Nếu tôi nói sai\, anh hãy chứng minh xem sai ở chỗ nào; còn nếu tôi nói phải\, sao anh lại đánh tôi?” (x. Ga 18\,22-23). \nMời Bạn: Những điều Đức Giê-su mời gọi như trong Tin Mừng hôm nay xem ra khó thực hiện và trái ngược với tính tự nhiên con người. Là môn đệ của Thầy Giê-su – Ngài là Đấng Thánh – chúng ta được mời gọi nên giống như Ngài: Sức mạnh nhưng không phải là bạo lực. Bao dung nhưng không phải là nhu nhược. Sức mạnh và bao dung đó Ngài thể hiện trọn vẹn qua cuộc khổ nạn và cái chết trên thập giá. Đó chính là cách thức Đức Giê-su thực hiện chương trình cứu độ Chúa Cha giao phó. \nSống Lời Chúa: Tâm niệm: “Chúa là Đấng từ bi nhân hậu. Ngài chậm giận và giàu tình thương” (Tv 145\,8). \nCầu nguyện: Đọc kinh Kính Mến.
URL:https://dongchuacuuthe.us/calendar/thu-hai-tuan-xi-thuong-nien-nam-i/
END:VEVENT
BEGIN:VEVENT
DTSTART;VALUE=DATE:20230619
DTEND;VALUE=DATE:20230620
DTSTAMP:20260425T071800
CREATED:20230522T055734Z
LAST-MODIFIED:20230522T055734Z
UID:7502-1687132800-1687219199@dongchuacuuthe.us
SUMMARY:Monday of the Eleventh Week in Ordinary Time
DESCRIPTION:Reading 1\n2 Cor 6:1-10\n\nBrothers and sisters:\nAs your fellow workers\, we appeal to you\nnot to receive the grace of God in vain.\nFor he says: \nIn an acceptable time I heard you\,\nand on the day of salvation I helped you. \nBehold\, now is a very acceptable time;\nbehold\, now is the day of salvation.\nWe cause no one to stumble in anything\,\nin order that no fault may be found with our ministry;\non the contrary\, in everything we commend ourselves\nas ministers of God\, through much endurance\,\nin afflictions\, hardships\, constraints\,\nbeatings\, imprisonments\, riots\,\nlabors\, vigils\, fasts;\nby purity\, knowledge\, patience\, kindness\,\nin the Holy Spirit\, in unfeigned love\, in truthful speech\,\nin the power of God;\nwith weapons of righteousness at the right and at the left;\nthrough glory and dishonor\, insult and praise.\nWe are treated as deceivers and yet are truthful;\nas unrecognized and yet acknowledged;\nas dying and behold we live;\nas chastised and yet not put to death;\nas sorrowful yet always rejoicing;\nas poor yet enriching many;\nas having nothing and yet possessing all things. \n\n\n\n\n\n\n\n\n\n\n\nResponsorial Psalm\nPs 98:1\, 2b\, 3ab\, 3cd-4\n\nR.(2a) The Lord has made known his salvation.\nSing to the LORD a new song\,\nfor he has done wondrous deeds;\nHis right hand has won victory for him\,\nhis holy arm.\nR. The Lord has made known his salvation.\nIn the sight of the nations he has revealed his justice.\nHe has remembered his kindness and his faithfulness\ntoward the house of Israel.\nR. The Lord has made known his salvation.\nAll the ends of the earth have seen\nthe salvation by our God.\nSing joyfully to the LORD\, all you lands;\nbreak into song; sing praise.\nR. The Lord has made known his salvation.\n\n\n\n\n\n\n\n\n\n\n\nAlleluia\nPs 119:105\n\nR. Alleluia\, alleluia.\nA lamp to my feet is your word\,\na light to my path.\nR. Alleluia\, alleluia.\n\n\n\n\n\n\n\n\n\n\n\nGospel\nMt 5:38-42\n\n\nJesus said to his disciples:\n“You have heard that it was said\,\nAn eye for an eye and a tooth for a tooth.\nBut I say to you\, offer no resistance to one who is evil.\nWhen someone strikes you on your right cheek\,\nturn the other one to him as well.\nIf anyone wants to go to law with you over your tunic\,\nhand him your cloak as well.\nShould anyone press you into service for one mile\,\ngo with him for two miles.\nGive to the one who asks of you\,\nand do not turn your back on one who wants to borrow.”
URL:https://dongchuacuuthe.us/calendar/monday-of-the-eleventh-week-in-ordinary-time/
END:VEVENT
END:VCALENDAR