BEGIN:VCALENDAR
VERSION:2.0
PRODID:-//Dòng Chúa Cứu Thế Hải Ngoại - ECPv6.15.20//NONSGML v1.0//EN
CALSCALE:GREGORIAN
METHOD:PUBLISH
X-ORIGINAL-URL:https://dongchuacuuthe.us
X-WR-CALDESC:Events for Dòng Chúa Cứu Thế Hải Ngoại
REFRESH-INTERVAL;VALUE=DURATION:PT1H
X-Robots-Tag:noindex
X-PUBLISHED-TTL:PT1H
BEGIN:VTIMEZONE
TZID:America/Los_Angeles
BEGIN:DAYLIGHT
TZOFFSETFROM:-0800
TZOFFSETTO:-0700
TZNAME:PDT
DTSTART:20220313T100000
END:DAYLIGHT
BEGIN:STANDARD
TZOFFSETFROM:-0700
TZOFFSETTO:-0800
TZNAME:PST
DTSTART:20221106T090000
END:STANDARD
BEGIN:DAYLIGHT
TZOFFSETFROM:-0800
TZOFFSETTO:-0700
TZNAME:PDT
DTSTART:20230312T100000
END:DAYLIGHT
BEGIN:STANDARD
TZOFFSETFROM:-0700
TZOFFSETTO:-0800
TZNAME:PST
DTSTART:20231105T090000
END:STANDARD
BEGIN:DAYLIGHT
TZOFFSETFROM:-0800
TZOFFSETTO:-0700
TZNAME:PDT
DTSTART:20240310T100000
END:DAYLIGHT
BEGIN:STANDARD
TZOFFSETFROM:-0700
TZOFFSETTO:-0800
TZNAME:PST
DTSTART:20241103T090000
END:STANDARD
END:VTIMEZONE
BEGIN:VEVENT
DTSTART;VALUE=DATE:20230618
DTEND;VALUE=DATE:20230619
DTSTAMP:20260425T071756
CREATED:20230522T050610Z
LAST-MODIFIED:20230522T050610Z
UID:7416-1687046400-1687132799@dongchuacuuthe.us
SUMMARY:Chúa Nhật XI Thường Niên Năm A
DESCRIPTION:BÀI ĐỌC I: Xh 19\, 2-6a\n“Đối với Ta\, các ngươi sẽ là một vương quốc tư tế\, một dân tộc hiến thánh”. \nTrích sách Xuất Hành. \nTrong những ngày ấy\, con cái Israel đi đến hoang địa Sinai\, và đóng trại ở đó. Israel cũng dựng nhà xếp trên triền núi. Còn Môsê thì lên cùng Thiên Chúa. Từ trên núi\, Chúa gọi ông và bảo: “Ngươi hãy nói với nhà Giacóp và thông báo cho con cái Israel thế này: Chính các ngươi đã thấy những gì Ta làm cho người Ai-cập. Ta đã mang các ngươi trên cánh phượng hoàng và đem các ngươi đến với Ta. Từ nay\, nếu các ngươi nghe lời Ta và giữ giao ước Ta\, thì các ngươi sẽ là sở hữu của Ta được tách biệt khỏi mọi dân\, vì cả trái đất là của Ta. Đối với Ta\, các ngươi sẽ là một vương quốc tư tế\, một dân tộc hiến thánh”. Đó là lời Chúa. \nĐÁP CA: Tv 99\, 2. 3. 5\nĐáp: Ta là dân tộc\, là đoàn chiên Chúa chăn nuôi (c. 3c). \nXướng: 1) Hãy phụng sự Chúa với niềm vui vẻ\, hãy vào trước thiên nhan với lòng hân hoan khoái trá. – Đáp. \n2) Hãy biết rằng Chúa là Thiên Chúa\, chính Người đã tạo tác thân ta\, và ta thuộc quyền sở hữu của Người; ta là dân tộc\, là đoàn chiên Chúa chăn nuôi. – Đáp. \n3) Vì chưng Chúa thiện hảo\, lòng từ bi Người tồn tại muôn đời\, và lòng trung tín còn tới muôn muôn thế hệ. – Đáp. \nBÀI ĐỌC II: Rm 5\, 6-11\n“Nếu chúng ta được giao hoà cùng Thiên Chúa nhờ cái chết của Con Ngài\, ắt chúng ta sẽ được cứu độ trong sự sống của Ngài”. \nTrích thư Thánh Phaolô Tông đồ gửi tín hữu Rôma. \nAnh em thân mến\, Chúa Kitô theo kỳ hẹn đã chịu chết vì chúng ta là kẻ tội lỗi. Ít có ai chết thay người công chính\, hoạ chăng có những người dám chết vì kẻ lành. Nhưng Thiên Chúa chứng tỏ tình yêu của Người đối với chúng ta\, nghĩa là trong lúc chúng ta còn là tội nhân\, thì theo kỳ hẹn\, Chúa Kitô đã chết vì chúng ta. Vậy phương chi bây giờ\, chúng ta đã nên công chính trong máu của Người\, và nhờ Người chúng ta sẽ được cứu khỏi cơn thịnh nộ. Bởi chưng\, nếu khi chúng ta còn là thù nghịch\, mà chúng ta đã được giao hoà cùng Thiên Chúa nhờ cái chết của Con Ngài\, thì huống chi khi đã được giao hoà\, ắt chúng ta sẽ được cứu độ trong sự sống của chính Chúa Kitô\, và không những thế\, chúng ta còn được vinh hiển trong Thiên Chúa nhờ Đức Giêsu Kitô\, Chúa chúng ta\, nhờ Người mà bây giờ chúng ta được lãnh ơn giao hoà. Đó là lời Chúa. \nALLELUIA: Ga 6\, 64b và 69b\nAlleluia\, alleluia! – Lạy Chúa\, lời của Chúa là thần trí và là sự sống; Chúa có những lời ban sự sống đời đời. – Alleluia. \nPHÚC ÂM: Mt 9\, 36 – 10\, 8\n“Sau khi triệu tập mười hai môn đệ\, Người sai các ông đi”. \nTin Mừng Chúa Giêsu Kitô theo Thánh Matthêu. \nKhi ấy\, Chúa Giêsu thấy đoàn lũ dân chúng\, liền động lòng xót thương họ: vì họ tất tưởi bơ vơ như những con chiên không có người chăn\, Người liền bảo môn đệ rằng: “Lúa chín đầy đồng\, mà thợ gặt thì ít. Các con hãy xin chủ ruộng sai thợ đi gặt lúa”. \nVà Người liền triệu tập mười hai môn đệ\, ban cho họ quyền năng trên các thần ô uế\, để họ xua đuổi chúng\, và chữa lành mọi bệnh hoạn tật nguyền. Đây là tên của mười hai tông đồ: trước hết là Simon cũng gọi là Phêrô\, rồi đến Anrê em ông; Giacôbê con của Giêbêđê và Gioan em ông; Philipphê và Bartôlômêô; Tôma và Matthêu người thu thế; Giacôbê con của Alphê và Tađêô; Simon người Cananêô và Giuđa Iscariốt\, kẻ nộp Người. Chúa Giêsu sai mười hai ông này đi và truyền lệnh cho các ông rằng: \n“Các con đừng đi về phía dân ngoại\, và đừng vào thành các người Samaritanô. Nhưng tốt hơn\, các con hãy đi đến cùng chiên lạc của nhà Israel trước đã\, và rao giảng rằng: ‘Nước Trời đã đến gần’. Hãy chữa lành người liệt\, phục sinh kẻ chết\, chữa lành người phung\, và xua trừ ma quỷ. Các con đã lãnh nhận nhưng không\, thì hãy cho nhưng không”. Đó là lời Chúa.
URL:https://dongchuacuuthe.us/calendar/chua-nhat-xi-thuong-nien-nam-a/
END:VEVENT
BEGIN:VEVENT
DTSTART;VALUE=DATE:20230618
DTEND;VALUE=DATE:20230619
DTSTAMP:20260425T071756
CREATED:20230522T055706Z
LAST-MODIFIED:20230522T055706Z
UID:7500-1687046400-1687132799@dongchuacuuthe.us
SUMMARY:Eleventh Sunday in Ordinary Time
DESCRIPTION:Reading 1\nEx 19:2-6a\n\n\nIn those days\, the Israelites came to the desert of Sinai and pitched camp.\nWhile Israel was encamped here in front of the mountain\,\nMoses went up the mountain to God.\nThen the LORD called to him and said\,\n“Thus shall you say to the house of Jacob;\ntell the Israelites:\nYou have seen for yourselves how I treated the Egyptians\nand how I bore you up on eagle wings\nand brought you here to myself.\nTherefore\, if you hearken to my voice and keep my covenant\,\nyou shall be my special possession\,\ndearer to me than all other people\,\nthough all the earth is mine.\nYou shall be to me a kingdom of priests\, a holy nation.” \n\n\n\n\n\n\n\n\n\n\n\n\nResponsorial Psalm\nPs 100:1-2\, 3\, 5\n\n\nR. (3c) We are his people: the sheep of his flock.\nSing joyfully to the LORD\, all you lands;\nserve the LORD with gladness;\ncome before him with joyful song.\nR. We are his people: the sheep of his flock.\nKnow that the LORD is God;\nhe made us\, his we are;\nhis people\, the flock he tends.\nR. We are his people: the sheep of his flock.\nThe LORD is good:\nhis kindness endures forever\,\nand his faithfulness to all generations.\nR. We are his people: the sheep of his flock. \n\n\n\n\n\n\n\n\n\n\n\n\nReading 2\nRomans 5:6-11\n\n\nBrothers and sisters:\nChrist\, while we were still helpless\,\nyet died at the appointed time for the ungodly.\nIndeed\, only with difficulty does one die for a just person\,\nthough perhaps for a good person\none might even find courage to die.\nBut God proves his love for us\nin that while we were still sinners Christ died for us.\nHow much more then\, since we are now justified by his blood\,\nwill we be saved through him from the wrath.\nIndeed\, if\, while we were enemies\,\nwe were reconciled to God through the death of his Son\,\nhow much more\, once reconciled\,\nwill we be saved by his life.\nNot only that\,\nbut we also boast of God through our Lord Jesus Christ\,\nthrough whom we have now received reconciliation. \n\n\n\n\n\n\n\n\n\n\n\n\nAlleluia\nMark 1:15\n\n\nR.    Alleluia\, alleluia.\nThe kingdom of God is at hand.\nRepent and believe in the Gospel.\nR.   Alleluia\, alleluia.\n\n\n\n\n\n\n\n\n\n\n\n\nGospel\nMatthew 9:36—10:8\n\n\nAt the sight of the crowds\, Jesus’ heart was moved with pity for them\nbecause they were troubled and abandoned\,\nlike sheep without a shepherd.\nThen he said to his disciples\,\n“The harvest is abundant but the laborers are few;\nso ask the master of the harvest\nto send out laborers for his harvest.” \nThen he summoned his twelve disciples\nand gave them authority over unclean spirits\nto drive them out and to cure every disease and every illness.\nThe names of the twelve apostles are these:\nfirst\, Simon called Peter\, and his brother Andrew;\nJames\, the son of Zebedee\, and his brother John;\nPhilip and Bartholomew\, Thomas and Matthew the tax collector;\nJames\, the son of Alphaeus\, and Thaddeus;\nSimon from Cana\, and Judas Iscariot who betrayed him. \nJesus sent out these twelve after instructing them thus\,\n“Do not go into pagan territory or enter a Samaritan town.\nGo rather to the lost sheep of the house of Israel.\nAs you go\, make this proclamation: ‘The kingdom of heaven is at hand.’\nCure the sick\, raise the dead\, cleanse lepers\, drive out demons.\nWithout cost you have received; without cost you are to give.”
URL:https://dongchuacuuthe.us/calendar/eleventh-sunday-in-ordinary-time/
END:VEVENT
END:VCALENDAR