BEGIN:VCALENDAR
VERSION:2.0
PRODID:-//Dòng Chúa Cứu Thế Hải Ngoại - ECPv6.15.20//NONSGML v1.0//EN
CALSCALE:GREGORIAN
METHOD:PUBLISH
X-WR-CALNAME:Dòng Chúa Cứu Thế Hải Ngoại
X-ORIGINAL-URL:https://dongchuacuuthe.us
X-WR-CALDESC:Events for Dòng Chúa Cứu Thế Hải Ngoại
REFRESH-INTERVAL;VALUE=DURATION:PT1H
X-Robots-Tag:noindex
X-PUBLISHED-TTL:PT1H
BEGIN:VTIMEZONE
TZID:America/Los_Angeles
BEGIN:DAYLIGHT
TZOFFSETFROM:-0800
TZOFFSETTO:-0700
TZNAME:PDT
DTSTART:20220313T100000
END:DAYLIGHT
BEGIN:STANDARD
TZOFFSETFROM:-0700
TZOFFSETTO:-0800
TZNAME:PST
DTSTART:20221106T090000
END:STANDARD
BEGIN:DAYLIGHT
TZOFFSETFROM:-0800
TZOFFSETTO:-0700
TZNAME:PDT
DTSTART:20230312T100000
END:DAYLIGHT
BEGIN:STANDARD
TZOFFSETFROM:-0700
TZOFFSETTO:-0800
TZNAME:PST
DTSTART:20231105T090000
END:STANDARD
BEGIN:DAYLIGHT
TZOFFSETFROM:-0800
TZOFFSETTO:-0700
TZNAME:PDT
DTSTART:20240310T100000
END:DAYLIGHT
BEGIN:STANDARD
TZOFFSETFROM:-0700
TZOFFSETTO:-0800
TZNAME:PST
DTSTART:20241103T090000
END:STANDARD
END:VTIMEZONE
BEGIN:VEVENT
DTSTART;VALUE=DATE:20230615
DTEND;VALUE=DATE:20230616
DTSTAMP:20260425T071759
CREATED:20230522T050312Z
LAST-MODIFIED:20230522T050312Z
UID:7410-1686787200-1686873599@dongchuacuuthe.us
SUMMARY:Thứ Năm Tuần X Thường Niên Năm I
DESCRIPTION:BÀI ĐỌC I: 2 Cr 3\, 15 – 4\, 1. 3-6 \n“Thiên Chúa chiếu sáng trong lòng chúng ta\, hầu làm sáng tỏ sự hiểu biết về vinh quang của Người”. \nTrích thư thứ hai của Thánh Phaolô Tông đồ gửi tín hữu Côrintô. \nAnh em thân mến\, cho đến nay\, mỗi lần đọc sách Môsê\, vẫn còn có cái màn che lòng con cái Israel. Nhưng khi người ta đã trở lại cùng Chúa\, màn ấy mới được cất đi. Chúa là Thần linh\, và ở đâu có Thần linh Chúa\, thì ở đấy có tự do. Phần chúng ta hết thảy\, không màn che mặt\, chúng ta phản ảnh vinh quang của Chúa\, được biến hoá giống hình ảnh Chúa\, từ vinh quang này đến vinh quang khác\, xứng với tác động của Thần Linh Chúa.  \nBởi thế\, đảm nhiệm việc phục vụ do lòng thương xót chúng tôi đã được hưởng\, chúng tôi không ngã lòng. Nếu Phúc Âm chúng tôi còn ẩn khuất\, thì cũng chỉ ẩn khuất cho những ai hư mất\, cho những ai không tin\, vì thần thế gian này đã làm cho tâm trí họ trở thành mù quáng\, khiến họ không còn thấy sáng chói Phúc Âm của vinh quang Đức Kitô\, Người là hình ảnh của Thiên Chúa. Thật vậy\, chúng tôi không rao giảng bản thân chúng tôi\, nhưng rao giảng Đức Giêsu Kitô\, Chúa chúng tôi: chúng tôi chỉ là tôi tớ anh em vì Đức Giêsu\, bởi Thiên Chúa\, Đấng đã phán: “Sự sáng hãy từ bóng tối toả ra”\, chính Người chiếu sáng trong lòng chúng ta\, hầu làm sáng tỏ sự hiểu biết về vinh quang của Người trên tôn nhan của Đức Giêsu Kitô. Đó là lời Chúa. \nĐÁP CA: Tv 84\, 9ab-10. 11-12. 13-14 \nĐáp: Vinh quang Chúa ngự trị trong đất nước chúng tôi (c. 10b). \nXướng: 1) Tôi sẽ nghe Chúa là Thiên Chúa của tôi phán bảo điều chi? Chắc hẳn Người sẽ phán bảo về sự bình an. Vâng\, ơn cứu độ Chúa gần đến cho những ai tôn sợ Chúa\, để vinh quang Chúa ngự trị trong đất nước chúng tôi. – Đáp. \n2) Lòng nhân hậu và trung thành gặp gỡ nhau\, đức công minh và sự bình an hôn nhau âu yếm. Từ mặt đất\, đức trung thành sẽ nở ra\, và đức công minh tự trời nhìn xuống. – Đáp. \n3) Vâng\, Chúa sẽ ban cho mọi điều thiện hảo\, và đất nước chúng tôi sẽ sinh bông trái. Đức công minh sẽ đi trước thiên nhan Chúa\, và ơn cứu độ theo sau lốt bước của Người. – Đáp. \nALLELUIA: Ga 14\, 29 \nAlleluia\, alleluia! – Chúa phán: “Nếu ai yêu Thầy\, thì sẽ giữ lời Thầy\, và Cha Thầy sẽ yêu mến người ấy\, và Chúng Ta sẽ đến và ở trong người ấy”. – Alleluia. \nPHÚC ÂM: Mt 5\, 20-26 \n“Bất cứ ai phẫn nộ với anh em mình\, thì sẽ bị toà án luận phạt”. \nTin Mừng Chúa Giêsu Kitô theo Thánh Matthêu. \nKhi ấy\, Chúa Giêsu phán cùng các môn đệ rằng: “Nếu các con không công chính hơn các luật sĩ và biệt phái\, thì các con chẳng được vào Nước Trời đâu.  \n“Các con đã nghe dạy người xưa rằng: ‘Không được giết người. Ai giết người\, sẽ bị luận phạt nơi toà án’. Còn Thầy\, Thầy sẽ bảo các con: Bất cứ ai phẫn nộ với anh em mình\, thì sẽ bị toà án luận phạt. Ai bảo anh em là “ngốc”\, thì bị phạt trước công nghị. Ai rủa anh em là “khùng”\, thì sẽ bị vạ lửa địa ngục. Nếu con đang dâng của lễ nơi bàn thờ mà sực nhớ người anh em đang có điều bất bình với con\, thì con hãy để của lễ lại trước bàn thờ\, đi làm hoà với người anh em con trước đã\, rồi hãy trở lại dâng của lễ. Hãy liệu làm hoà với kẻ thù ngay lúc còn đi dọc đường với nó\, kẻo kẻ thù sẽ đưa con ra trước mặt quan toà\, quan toà lại trao con cho tên lính canh và con sẽ bị tống ngục. Ta bảo thật cho con biết: Con sẽ không thoát khỏi nơi ấy cho đến khi trả hết đồng xu cuối cùng!” Đó là lời Chúa.
URL:https://dongchuacuuthe.us/calendar/thu-nam-tuan-x-thuong-nien-nam-i/
END:VEVENT
BEGIN:VEVENT
DTSTART;VALUE=DATE:20230615
DTEND;VALUE=DATE:20230616
DTSTAMP:20260425T071759
CREATED:20230522T055542Z
LAST-MODIFIED:20230522T055542Z
UID:7494-1686787200-1686873599@dongchuacuuthe.us
SUMMARY:Thursday of the Tenth Week in Ordinary Time
DESCRIPTION:Reading 1\n2 Cor 3:15—4:1\, 3-6\n\nBrothers and sisters:\nTo this day\, whenever Moses is read\,\na veil lies over the hearts of the children of Israel\,\nbut whenever a person turns to the Lord the veil is removed.\nNow the Lord is the Spirit and where the Spirit of the Lord is\,\nthere is freedom.\nAll of us\, gazing with unveiled face on the glory of the Lord\,\nare being transformed into the same image from glory to glory\,\nas from the Lord who is the Spirit. \nTherefore\, since we have this ministry through the mercy shown us\,\nwe are not discouraged.\nAnd even though our Gospel is veiled\,\nit is veiled for those who are perishing\,\nin whose case the god of this age\nhas blinded the minds of the unbelievers\,\nso that they may not see the light of the Gospel\nof the glory of Christ\, who is the image of God.\nFor we do not preach ourselves but Jesus Christ as Lord\,\nand ourselves as your slaves for the sake of Jesus.\nFor God who said\, Let light shine out of darkness\,\nhas shone in our hearts to bring to light\nthe knowledge of the glory of God\non the face of Jesus Christ.\n\n\n\n\n\n\n\n\n\n\n\nResponsorial Psalm\nPs 85:9ab and 10\, 11-12\, 13-14\n\nR. (see 10b) The glory of the Lord will dwell in our land.\nI will hear what God proclaims;\nthe LORD–for he proclaims peace to his people.\nNear indeed is his salvation to those who fear him\,\nglory dwelling in our land.\nR. The glory of the Lord will dwell in our land.\nKindness and truth shall meet;\njustice and peace shall kiss.\nTruth shall spring out of the earth\,\nand justice shall look down from heaven.\nR. The glory of the Lord will dwell in our land.\nThe LORD himself will give his benefits;\nour land shall yield its increase.\nJustice shall walk before him\,\nand salvation\, along the way of his steps.\nR. The glory of the Lord will dwell in our land.\n\n\n\n\n\n\n\n\n\n\n\nAlleluia\nJn 13:34\n\nR. Alleluia\, alleluia.\nI give you a new commandment:\nlove one another as I have loved you.\nR. Alleluia\, alleluia.\n\n\n\n\n\n\n\n\n\n\n\nGospel\nMt 5:20-26\n\nJesus said to his disciples:\n“I tell you\, unless your righteousness surpasses that\nof the scribes and Pharisees\,\nyou will not enter into the Kingdom of heaven. \n“You have heard that it was said to your ancestors\,\nYou shall not kill; and whoever kills will be liable to judgment.\nBut I say to you\, whoever is angry with his brother\nwill be liable to judgment\,\nand whoever says to his brother\,\nRaqa\, will be answerable to the Sanhedrin\,\nand whoever says\, ‘You fool\,’ will be liable to fiery Gehenna.\nTherefore\, if you bring your gift to the altar\,\nand there recall that your brother\nhas anything against you\,\nleave your gift there at the altar\,\ngo first and be reconciled with your brother\,\nand then come and offer your gift.\nSettle with your opponent quickly while on the way to court with him.\nOtherwise your opponent will hand you over to the judge\,\nand the judge will hand you over to the guard\,\nand you will be thrown into prison.\nAmen\, I say to you\,\nyou will not be released until you have paid the last penny.”
URL:https://dongchuacuuthe.us/calendar/thursday-of-the-tenth-week-in-ordinary-time/
END:VEVENT
END:VCALENDAR