BEGIN:VCALENDAR
VERSION:2.0
PRODID:-//Dòng Chúa Cứu Thế Hải Ngoại - ECPv6.15.20//NONSGML v1.0//EN
CALSCALE:GREGORIAN
METHOD:PUBLISH
X-ORIGINAL-URL:https://dongchuacuuthe.us
X-WR-CALDESC:Events for Dòng Chúa Cứu Thế Hải Ngoại
REFRESH-INTERVAL;VALUE=DURATION:PT1H
X-Robots-Tag:noindex
X-PUBLISHED-TTL:PT1H
BEGIN:VTIMEZONE
TZID:America/Los_Angeles
BEGIN:DAYLIGHT
TZOFFSETFROM:-0800
TZOFFSETTO:-0700
TZNAME:PDT
DTSTART:20220313T100000
END:DAYLIGHT
BEGIN:STANDARD
TZOFFSETFROM:-0700
TZOFFSETTO:-0800
TZNAME:PST
DTSTART:20221106T090000
END:STANDARD
BEGIN:DAYLIGHT
TZOFFSETFROM:-0800
TZOFFSETTO:-0700
TZNAME:PDT
DTSTART:20230312T100000
END:DAYLIGHT
BEGIN:STANDARD
TZOFFSETFROM:-0700
TZOFFSETTO:-0800
TZNAME:PST
DTSTART:20231105T090000
END:STANDARD
BEGIN:DAYLIGHT
TZOFFSETFROM:-0800
TZOFFSETTO:-0700
TZNAME:PDT
DTSTART:20240310T100000
END:DAYLIGHT
BEGIN:STANDARD
TZOFFSETFROM:-0700
TZOFFSETTO:-0800
TZNAME:PST
DTSTART:20241103T090000
END:STANDARD
END:VTIMEZONE
BEGIN:VEVENT
DTSTART;VALUE=DATE:20230613
DTEND;VALUE=DATE:20230614
DTSTAMP:20260425T071756
CREATED:20230522T050224Z
LAST-MODIFIED:20230522T050224Z
UID:7406-1686614400-1686700799@dongchuacuuthe.us
SUMMARY:Thứ Ba Tuần X Thường Niên Năm I
DESCRIPTION:BÀI ĐỌC I: 2 Cr 1\, 18-22 \n“Đức Giêsu không phải vừa ‘Có’ lại vừa ‘Không’\, nhưng nơi Người chỉ ‘Có’ mà thôi”. \nTrích thư thứ hai của Thánh Phaolô Tông đồ gửi tín hữu Côrintô. \nAnh em thân mến\, xin Thiên Chúa là Đấng trung tín\, chứng giám cho rằng lời nói của chúng tôi đối với anh em không phải là vừa “Có” lại vừa “Không”. Quả thế\, Con Thiên Chúa là Đức Giêsu Kitô\, Đấng mà tôi\, Silvanô và Timôthêu đã rao giảng nơi anh em\, Người không phải vừa “Có” lại vừa “Không”; trái lại\, nơi Người chỉ là “Có” mà thôi. Bởi chưng bao nhiêu lời hứa của Thiên Chúa đã thành “Có” ở nơi Người. Vì thế\, nhờ Người mà chúng tôi hô lên lời “Amen” tôn vinh Thiên Chúa. Vậy Đấng đã làm cho chúng tôi và anh em được đứng vững trong Đức Kitô\, và đã xức dầu cho chúng ta\, chính là Thiên Chúa\, Ngài đã ghi dấu trên mình chúng ta\, và đã ban vào lòng chúng ta bảo chứng của Thánh Thần. Đó là lời Chúa. \nĐÁP CA: Tv 118\, 129. 130. 131. 132. 133. 135 \nĐáp: Lạy Chúa\, xin tỏ cho tôi tớ Chúa thấy long nhan hiền hậu của Chúa (c. 135a). \nXướng: 1) Kỳ diệu thay những lời Ngài nghiêm huấn\, bởi thế linh hồn con vẫn tuân theo. – Đáp. \n2) Sự mạc khải lời Ngài soi sáng\, và dạy bảo những người chưa kinh nghiệm. – Đáp. \n3) Con há miệng để hút nguồn sinh khí\, vì con ham muốn những chỉ thị của Ngài. – Đáp. \n4) Xin Chúa nhìn lại thân con và thương xót\, như Chúa quen xử với những người yêu mến danh Chúa. – Đáp. \n5) Xin hướng dẫn con bước theo lời răn của Chúa\, và chớ để điều gian ác thống trị trong mình con. – Đáp. \n6) Xin tỏ cho tôi tớ Ngài thấy long nhan hiền hậu\, và dạy bảo con những thánh chỉ của Ngài. – Đáp. \nALLELUIA: Ga 8\, 12 \nAlleluia\, alleluia! – Chúa phán: “Ta là sự sáng thế gian\, ai theo Ta\, sẽ được ánh sáng ban sự sống”. – Alleluia. \nPHÚC ÂM: Mt 5\, 13-16 \n“Các con là sự sáng thế gian”. \nTin Mừng Chúa Giêsu Kitô theo Thánh Marcô. \nKhi ấy\, Chúa Giêsu phán cùng các môn đệ rằng: “Các con là muối đất. Nếu muối đã lạt\, người ta biết lấy gì mà ướp cho mặn lại? Muối đó không còn xử dụng vào việc chi nữa\, chỉ còn ném ra ngoài cho người ta chà đạp lên nó. Các con là sự sáng thế gian. Một thành phố xây dựng trên núi\, không thể che giấu được. Và người ta cũng không thắp đèn rồi để dưới đáy thùng\, nhưng đặt nó trên giá đèn\, hầu soi sáng cho mọi người trong nhà. Sự sáng của các con cũng phải chiếu giãi ra trước mặt thiên hạ\, để họ xem thấy những việc lành của các con mà ngợi khen Cha các con trên trời”. Đó là lời Chúa. \nTHỨ BA TUẦN 10 TN\nMt 5\,13-16\nHÃY NÊN CHẤT XÚC TÁC \n“Chính anh em là muối cho đời… chính anh em là ánh sáng cho trần gian.”(Mt 5\,13.14) \nSuy niệm: Muối và ánh sáng là hai thứ không thể thiếu trong cuộc sống của  mọi sinh vật. Muối khử trùng vết thương\, làm cho đồ ăn khỏi hư thối; ánh sáng làm tăng trưởng diệp lục tố cho cây cối\, kích hoạt các sắc tố nơi cơ thể động vật… Người Ki-tô hữu\, môn đệ của Chúa\, được ví như chất xúc tác kích hoạt sức sống thiêng liêng cho trần gian. Đó chính là đem tinh thần Tin Mừng ướp mặn cho đời\, đem ánh sáng Phúc Âm chiếu tỏa vào các sinh hoạt trần thế. Đòi hỏi này đặt chúng ta trước sứ mệnh làm nhân chứng cho sự hiện diện của Chúa giữa trần gian. Ưu tư của tín hữu là làm sao cho muối khỏi ra nhạt và ánh sáng ngày càng sáng hơn. Cũng như viên ngọc: “Ngọc kia chẳng dũa chẳng mài\, cũng thành vô dụng cũng hoài ngọc đi.” \nMời Bạn: Con người vốn yếu đuối tội lỗi\, làm sao có thể trở nên muối và ánh sáng cho người khác? J. Pichappily cho ta một bí quyết: “Hãy để ánh sáng soi chiếu vào những khuyết điểm của bạn” như thế “những cái yếu đuối lớn nhất sẽ thành nên sức mạnh lớn lao nhất” giúp ta thanh luyện cuộc sống mỗi ngày. Nhờ vậy\, muối sẽ không bị nhạt đi và ánh sáng nơi ta sẽ không bị lu mờ dần. \nSống Lời Chúa:  Đưa ra sáng kiến để việc Tân Phúc Âm Hóa cộng đoàn trong năm nay giúp các thành viên trở thành muối\, men\, và ánh sáng cho mọi người. \nCầu nguyện:Lạy Chúa\, Chúa là nguồn ánh sáng và là sức mạnh giúp con người hoán cải trở nên thanh sạch hơn. Xin ban cho con (cộng đoàn con) luôn ý thức và yêu mến ơn gọi của mình. Nhờ đó\, con biết thanh luyện mình mỗi ngày cho xứng với ơn gọi ấy.
URL:https://dongchuacuuthe.us/calendar/thu-ba-tuan-x-thuong-nien-nam-i/
END:VEVENT
BEGIN:VEVENT
DTSTART;VALUE=DATE:20230613
DTEND;VALUE=DATE:20230614
DTSTAMP:20260425T071756
CREATED:20230522T055452Z
LAST-MODIFIED:20230522T055452Z
UID:7490-1686614400-1686700799@dongchuacuuthe.us
SUMMARY:Memorial of Saint Anthony of Padua\, Priest and Doctor of the Church
DESCRIPTION:Reading 1\n2 Cor 1:18-22\n\nBrothers and sisters:\nAs God is faithful\, our word to you is not “yes” and “no.”\nFor the Son of God\, Jesus Christ\, who was proclaimed to you by us\,\nSilvanus and Timothy and me\,\nwas not “yes” and “no\,” but “yes” has been in him.\nFor however many are the promises of God\, their Yes is in him;\ntherefore\, the Amen from us also goes through him to God for glory.\nBut the one who gives us security with you in Christ\nand who anointed us is God;\nhe has also put his seal upon us\nand given the Spirit in our hearts as a first installment.\n\n\n\n\n\n\n\n\n\n\n\nResponsorial Psalm\nPs 119:129\, 130\, 131\, 132\, 133\, 135\n\nR. (135a) Lord\, let your face shine on me.\nWonderful are your decrees;\ntherefore I observe them.\nR. Lord\, let your face shine on me.\nThe revelation of your words sheds light\,\ngives understanding to the simple.\nR. Lord\, let your face shine on me.\nI gasp with open mouth\nin my yearning for your commands.\nR. Lord\, let your face shine on me.\nTurn to me in pity\nas you turn to those who love your name.\nR. Lord\, let your face shine on me.\nSteady my footsteps according to your promise\,\nand let no iniquity rule over me.\nR. Lord\, let your face shine on me.\nLet your countenance shine upon your servant\,\nand teach me your statutes.\nR. Lord\, let your face shine on me.\n\n\n\n\n\n\n\n\n\n\n\nAlleluia\nMt 5:16\n\nR. Alleluia\, alleluia.\nLet your light shine before others\nthat they may see your good deeds and glorify your heavenly Father.\nR. Alleluia\, alleluia.\n\n\n\n\n\n\n\n\n\n\n\nGospel\nMt 5:13-16\n\nJesus said to his disciples:\n“You are the salt of the earth.\nBut if salt loses its taste\, with what can it be seasoned?\nIt is no longer good for anything\nbut to be thrown out and trampled underfoot.\nYou are the light of the world.\nA city set on a mountain cannot be hidden.\nNor do they light a lamp and then put it under a bushel basket;\nit is set on a lampstand\,\nwhere it gives light to all in the house.\nJust so\, your light must shine before others\,\nthat they may see your good deeds\nand glorify your heavenly Father.”
URL:https://dongchuacuuthe.us/calendar/memorial-of-saint-anthony-of-padua-priest-and-doctor-of-the-church/
END:VEVENT
END:VCALENDAR