BEGIN:VCALENDAR
VERSION:2.0
PRODID:-//Dòng Chúa Cứu Thế Hải Ngoại - ECPv6.15.20//NONSGML v1.0//EN
CALSCALE:GREGORIAN
METHOD:PUBLISH
X-ORIGINAL-URL:https://dongchuacuuthe.us
X-WR-CALDESC:Events for Dòng Chúa Cứu Thế Hải Ngoại
REFRESH-INTERVAL;VALUE=DURATION:PT1H
X-Robots-Tag:noindex
X-PUBLISHED-TTL:PT1H
BEGIN:VTIMEZONE
TZID:America/Los_Angeles
BEGIN:DAYLIGHT
TZOFFSETFROM:-0800
TZOFFSETTO:-0700
TZNAME:PDT
DTSTART:20220313T100000
END:DAYLIGHT
BEGIN:STANDARD
TZOFFSETFROM:-0700
TZOFFSETTO:-0800
TZNAME:PST
DTSTART:20221106T090000
END:STANDARD
BEGIN:DAYLIGHT
TZOFFSETFROM:-0800
TZOFFSETTO:-0700
TZNAME:PDT
DTSTART:20230312T100000
END:DAYLIGHT
BEGIN:STANDARD
TZOFFSETFROM:-0700
TZOFFSETTO:-0800
TZNAME:PST
DTSTART:20231105T090000
END:STANDARD
BEGIN:DAYLIGHT
TZOFFSETFROM:-0800
TZOFFSETTO:-0700
TZNAME:PDT
DTSTART:20240310T100000
END:DAYLIGHT
BEGIN:STANDARD
TZOFFSETFROM:-0700
TZOFFSETTO:-0800
TZNAME:PST
DTSTART:20241103T090000
END:STANDARD
END:VTIMEZONE
BEGIN:VEVENT
DTSTART;VALUE=DATE:20230601
DTEND;VALUE=DATE:20230602
DTSTAMP:20260425T071758
CREATED:20230522T045621Z
LAST-MODIFIED:20230522T045621Z
UID:7382-1685577600-1685663999@dongchuacuuthe.us
SUMMARY:Thứ Năm Tuần VIII Thường Niên Năm I
DESCRIPTION:BÀI ĐỌC I: Hc 42\, 15-26 (Hl 15-25) \n“Các công trình của Chúa đầy ánh vinh quang của Người”. \nTrích sách Huấn Ca. \nTôi sẽ ghi nhớ công trình của Chúa\, và sẽ thuật lại những điều tôi đã thấy. Nhờ lời Chúa mà Chúa đã thực hiện những kỳ công. Mặt trời chiếu soi vạn vật\, và công trình của Chúa đầy ánh vinh quang của Người.  \nNào Chúa đã không ban cho các thánh được cao rao các việc kỳ diệu của Người\, những việc mà Chúa toàn năng đã củng cố trong vinh quang của Người sao?  \nNgười dò xét vực thẳm và lòng con người\, thấu biết những mưu chước của họ\, vì Chúa thấu suốt mọi sự và theo dõi những dấu thời đại\, tuyên bố những gì thuộc về dĩ vãng và hậu lai\, tỏ bày những dấu vết các việc ẩn kín. Không một tư tưởng nào mà Người không biết\, không một lời nào có thể giấu được Người.  \nNgười sắp đặt những kỳ công sự khôn ngoan của Người. Người có trước muôn đời và tồn tại muôn thuở\, không thêm không bớt\, không cần đến vị cố vấn nào. Mọi công trình của Người thực đáng quý chuộng\, và như những ánh lửa người ta có thể ngắm nhìn. Mọi vật ấy đều sống động và tồn tại muôn đời\, và vâng phục Người trong mọi hoàn cảnh. Tất cả đều có từng đôi và cái này đối diện với cái nọ\, và Người không làm chi khuyết điểm. Vật này làm nổi bật vẻ đẹp cho vật kia. Và ai có thể nhàm chán nhìn xem vinh quang của Người? Đó là lời Chúa. \n\nĐÁP CA: Tv 32\, 2-3. 4-5. 6-7. 8-9 \nĐáp: Do lời Chúa mà trời xanh được tạo thành (c. 6a). \nXướng: 1) Hãy ngợi khen Chúa với cây đàn cầm\, với đàn mười dây\, hãy xướng ca mừng Chúa. Hãy ca mừng Người bài ca mới\, hát mừng Người với tiếng râm ran.- Đáp. \n2) Vì lời Chúa là lời chân chính\, bao việc Chúa làm đều đáng cậy tin. Chúa yêu chuộng điều công minh chính trực\, địa cầu đầy ân sủng của Chúa. – Đáp. \n3) Do lời Chúa mà trời xanh được tạo thành\, và mọi cơ binh chúng đều do hơi thở miệng Người. Chúa thu nước biển lại như để trong bầu\, Người đặt những ngọn sóng trong kho chứa đựng. – Đáp. \n4) Toàn thể địa cầu hãy tôn sợ Chúa\, mọi người sống trong vũ trụ hãy kính nể Người. Vì chính Người phán dạy mà chúng được tạo thành\, chính Người ra lệnh mà chúng trở nên thực hữu. – Đáp. \n\nALLELUIA: Tv 144\, 13cd \nAlleluia\, alleluia! – Chúa trung thành trong mọi lời Chúa phán\, và thánh thiện trong mọi việc Chúa làm. – Alleluia. \n\nPHÚC ÂM: Mc 10\, 46-52 \n“Lạy Thầy\, xin cho tôi được thấy”. \nTin Mừng Chúa Giêsu Kitô theo Thánh Marcô. \nKhi ấy\, Chúa Giêsu ra khỏi thành Giêricô cùng với các môn đệ\, và một đám đông\, thì có con ông Timê tên là Bartimê\, một người mù ăn xin đang ngồi ở vệ đường. Khi anh ta nghe biết đó là Chúa Giêsu Nagiarét\, liền kêu lên rằng: “Hỡi ông Giêsu con vua Đavít\, xin thương xót tôi”. Và nhiều người mắng anh bảo im đi\, nhưng anh càng kêu to hơn: “Hỡi con vua Đavít \, xin thương xót tôi”.  \nChúa Giêsu dừng lại và truyền gọi anh đến. Người ta gọi người mù và bảo anh: “Hãy vững tâm đứng dậy\, Người gọi anh”. Anh ta liệng áo choàng\, đứng dậy\, đến cùng Chúa Giêsu. Bấy giờ Chúa Giêsu bảo rằng: “Anh muốn Ta làm gì cho anh”? Người mù thưa: “Lạy Thầy\, xin cho tôi được thấy”. Chúa Giêsu đáp: “Được\, đức tin của anh đã chữa anh”. Tức thì anh ta thấy được và đi theo Người. Đó là lời Chúa. \nTHỨ NĂM TUẦN 8 TN – Mc 10\,46-52\nBIẾT MÌNH CẦN CHÚA  \n“Lạy ông Giê-su\, con vua Đa-vít\, xin dủ lòng thương tôi.” (Mc 10\,47) \nSuy niệm: Anh mù này hằng ngày ngồi ăn xin nơi cửa thành Giê-ri-cô\, người ta đã quá nhẵn mặt anh\, cả đến cha của anh người ta cũng biết: họ gọi anh là “Ba-ti-mê\, con ông Ti-mê” mà! Thế nhưng có lẽ không ai hiểu nỗi lòng khao khát của anh: anh mong “được nhìn thấy”. Nghe người ta kể lại về một ông Giê-su chữa lành nhiều bệnh tật\, anh tin rằng chỉ có Người mới có thể cứu anh và anh chờ đợi. Dịp may đến cho anh khi Đức Giê-su đi ngang qua đó. Vừa nghe nói có Đức Giê-su đi tới\, anh liền chồm dậy la to\, van xin Ngài cứu anh. Mặc cho người ta quát nạt và ngăn cấm\, anh càng kêu to hơn. Anh khao khát được thấy. Anh tin rằng chỉ có Chúa mới có thể cứu chữa anh mà thôi. Anh biết anh cần Chúa! Và Chúa cũng biết anh cần Ngài! Ngài thấy lòng tin đó nơi anh và đã thương cứu chữa: “Anh hãy đi\, lòng tin của anh đã cứu anh!” \nMời Bạn: Tội lỗi là vật cản lớn nhất cắt đứt con đường dẫn bạn đến hạnh phúc đời đời. Chỉ mình Đức Ki-tô mới có thể cứu bạn khỏi tình trạng bế tắc đó. Bạn có khao khát được giải thoát khỏi tội lỗi và nhận ra mình đang cần Chúa không? Mời bạn đặt trọn niềm tin vào Ngài để bạn được cứu chữa. Bạn đã sẵn sàng cho việc này chưa? \nChia sẻ: Những lúc bạn đụng phải bế tắc trong cuộc sống\, bạn có cảm thấy mình cần Chúa như thế nào không? \nSống Lời Chúa: Thầm nguyện tắt xin ơn Chúa trợ giúp và dâng Chúa công việc mình sắp làm. \nCầu nguyện: Lạy Chúa Giê-su\, xin giúp con nhận ra mình là một tội nhân cần được Chúa cứu chữa. Xin giúp con luôn khao khát và tìm kiếm Chúa trên mỗi công việc con làm. Amen.
URL:https://dongchuacuuthe.us/calendar/thu-nam-tuan-viii-thuong-nien-nam-i/
END:VEVENT
BEGIN:VEVENT
DTSTART;VALUE=DATE:20230601
DTEND;VALUE=DATE:20230602
DTSTAMP:20260425T071758
CREATED:20230522T054905Z
LAST-MODIFIED:20230522T054905Z
UID:7466-1685577600-1685663999@dongchuacuuthe.us
SUMMARY:Memorial of Saint Justin\, Martyr
DESCRIPTION:Reading 1\nSir 42:15-25\n\nNow will I recall God’s works;\nwhat I have seen\, I will describe.\nAt God’s word were his works brought into being;\nthey do his will as he has ordained for them.\nAs the rising sun is clear to all\,\nso the glory of the LORD fills all his works;\nYet even God’s holy ones must fail\nin recounting the wonders of the LORD\,\nThough God has given these\, his hosts\, the strength\nto stand firm before his glory.\nHe plumbs the depths and penetrates the heart;\ntheir innermost being he understands.\nThe Most High possesses all knowledge\,\nand sees from of old the things that are to come:\nHe makes known the past and the future\,\nand reveals the deepest secrets.\nNo understanding does he lack;\nno single thing escapes him.\nPerennial is his almighty wisdom;\nhe is from all eternity one and the same\,\nWith nothing added\, nothing taken away;\nno need of a counselor for him!\nHow beautiful are all his works!\neven to the spark and fleeting vision!\nThe universe lives and abides forever;\nto meet each need\, each creature is preserved.\nAll of them differ\, one from another\,\nyet none of them has he made in vain\,\nFor each in turn\, as it comes\, is good;\ncan one ever see enough of their splendor?\n\n\n\n\n\n\n\n\n\n\n\nResponsorial Psalm\nPS 33:2-3\, 4-5\, 6-7\, 8-9\n\nR. (6a) By the word of the Lord the heavens were made.\nGive thanks to the LORD on the harp;\nwith the ten-stringed lyre chant his praises.\nSing to him a new song;\npluck the strings skillfully\, with shouts of gladness.\nR. By the word of the Lord the heavens were made.\nFor upright is the word of the LORD\nand all his works are trustworthy.\nHe loves justice and right;\nof the kindness of the LORD the earth is full.\nR. By the word of the Lord the heavens were made.\nBy the word of the LORD the heavens were made;\nby the breath of his mouth all their host.\nHe gathers the waters of the sea as in a flask;\nin cellars he confines the deep.\nR. By the word of the Lord the heavens were made.\nLet all the earth fear the LORD;\nlet all who dwell in the world revere him.\nFor he spoke\, and it was made;\nhe commanded\, and it stood forth.\nR. By the word of the Lord the heavens were made.\n\n\n\n\n\n\n\n\n\n\n\nAlleluia\nJn 8:12\n\nR. Alleluia\, alleluia.\nI am the light of the world\, says the Lord;\nwhoever follows me will have the light of life.\nR. Alleluia\, alleluia.\n\n\n\n\n\n\n\n\n\n\n\nGospel\nMk 10:46-52\n\nAs Jesus was leaving Jericho with his disciples and a sizable crowd\,\nBartimaeus\, a blind man\, the son of Timaeus\,\nsat by the roadside begging.\nOn hearing that it was Jesus of Nazareth\,\nhe began to cry out and say\,\n“Jesus\, son of David\, have pity on me.”\nAnd many rebuked him\, telling him to be silent.\nBut he kept calling out all the more\, “Son of David\, have pity on me.”\nJesus stopped and said\, “Call him.”\nSo they called the blind man\, saying to him\,\n“Take courage; get up\, Jesus is calling you.”\nHe threw aside his cloak\, sprang up\, and came to Jesus.\nJesus said to him in reply\, “What do you want me to do for you?”\nThe blind man replied to him\, “Master\, I want to see.”\nJesus told him\, ‘Go your way; your faith has saved you.”\nImmediately he received his sight\nand followed him on the way.
URL:https://dongchuacuuthe.us/calendar/memorial-of-saint-justin-martyr/
END:VEVENT
END:VCALENDAR