BEGIN:VCALENDAR
VERSION:2.0
PRODID:-//Dòng Chúa Cứu Thế Hải Ngoại - ECPv6.15.20//NONSGML v1.0//EN
CALSCALE:GREGORIAN
METHOD:PUBLISH
X-ORIGINAL-URL:https://dongchuacuuthe.us
X-WR-CALDESC:Events for Dòng Chúa Cứu Thế Hải Ngoại
REFRESH-INTERVAL;VALUE=DURATION:PT1H
X-Robots-Tag:noindex
X-PUBLISHED-TTL:PT1H
BEGIN:VTIMEZONE
TZID:America/Los_Angeles
BEGIN:DAYLIGHT
TZOFFSETFROM:-0800
TZOFFSETTO:-0700
TZNAME:PDT
DTSTART:20220313T100000
END:DAYLIGHT
BEGIN:STANDARD
TZOFFSETFROM:-0700
TZOFFSETTO:-0800
TZNAME:PST
DTSTART:20221106T090000
END:STANDARD
BEGIN:DAYLIGHT
TZOFFSETFROM:-0800
TZOFFSETTO:-0700
TZNAME:PDT
DTSTART:20230312T100000
END:DAYLIGHT
BEGIN:STANDARD
TZOFFSETFROM:-0700
TZOFFSETTO:-0800
TZNAME:PST
DTSTART:20231105T090000
END:STANDARD
BEGIN:DAYLIGHT
TZOFFSETFROM:-0800
TZOFFSETTO:-0700
TZNAME:PDT
DTSTART:20240310T100000
END:DAYLIGHT
BEGIN:STANDARD
TZOFFSETFROM:-0700
TZOFFSETTO:-0800
TZNAME:PST
DTSTART:20241103T090000
END:STANDARD
END:VTIMEZONE
BEGIN:VEVENT
DTSTART;VALUE=DATE:20230530
DTEND;VALUE=DATE:20230531
DTSTAMP:20260425T071757
CREATED:20230522T040140Z
LAST-MODIFIED:20230522T040215Z
UID:7360-1685404800-1685491199@dongchuacuuthe.us
SUMMARY:Thứ Ba Tuần VIII Thường Niên Năm I
DESCRIPTION:BÀI ĐỌC I: Hc 35\, 1-15 (Hl 1-12) \n“Chuyên giữ các điều răn là dâng của lễ hy tế cứu độ”. \nTrích sách Huấn Ca. \nAi tuân giữ lề luật\, là dâng nhiều lễ vật. Chuyên giữ các điều răn và xa lánh mọi điều gian ác\, là dâng lễ hy tế cứu độ.  \nHãy dâng của lễ xin ơn tha thứ cho những bất công\, hãy cầu nguyện xin ơn tha tội\, và hãy xa lánh những điều gian tà.  \nAi thực thi bác ái\, là hiến dâng của lễ hoàn hảo; ai làm phúc bố thí\, là dâng của lễ hy tế.  \nĐiều làm đẹp lòng Chúa là xa lánh gian ác. Lánh xa bất công là dâng của lễ đền tội.  \nNgươi đừng đến trước mặt Chúa với bàn tay không; vì tất cả những điều đó là do mệnh lệnh của Thiên Chúa. Của lễ người công chính làm cho bàn thờ nên phong phú\, và hương thơm êm dịu của nó bay lên trước dung nhan Đấng Tối Cao. Lễ vật hiến tế của người công chính đã được chấp nhận\, và Chúa sẽ không quên kẻ ấy. Ngươi hãy tôn vinh Thiên Chúa với tâm hồn quảng đại\, và đừng rút bớt lại của lễ đầu mùa do công lao tay ngươi làm ra.  \nMỗi lần ngươi dâng của lễ\, nét mặt ngươi hãy vui tươi\, và hãy hân hoan thánh hiến một phần mười của ngươi dâng. Ngươi hãy dâng lên Đấng Tối Cao tuỳ theo như Người đã ban cho ngươi\, và hãy dâng với tâm hồn quảng đại theo sự ngươi đang có trong tay\, vì Chúa là Đấng thưởng công và sẽ trả lại cho ngươi gấp bảy lần. Ngươi chớ dâng những lễ vật hèn kém\, vì Người sẽ không nhận của lễ như vậy đâu\, ngươi cũng đừng trông gì nơi những của lễ bất chính\, vì Chúa là Đấng xét xử\, Người không thiên vị ai đâu. Đó là lời Chúa. \nĐÁP CA: Tv 49\, 5-6. 7-8. 14 và 23 \nĐáp: Ai đi đường ngay thẳng\, Ta chỉ cho thấy ơn Thiên Chúa cứu độ (c. 23b). \nXướng: 1) “Hãy tập họp cho Ta các tín đồ đã ký lời giao ước của Ta cùng hy sinh lễ”. Và trời cao sẽ loan truyền sự công chính của Người\, vì chính Thiên Chúa\, Người là thẩm phán. – Đáp. \n2) Hỡi dân tộc của Ta\, hãy nghe Ta nói\, hỡi Israel\, Ta sẽ chứng tỏ lời phản đối ngươi: Ta là Thiên Chúa\, Đức Thiên Chúa của ngươi. Ta không khiển trách ngươi về chuyện dâng lễ vật\, vì lễ toàn thiêu của ngươi đặt ở trước mặt Ta luôn. – Đáp. \n3) Hãy hiến dâng Thiên Chúa lời khen ngợi\, và làm trọn điều khấn hứa cùng Đấng Tối Cao. Ai hiến dâng lời khen ngợi\, người đó trọng kính Ta\, ai đi đường ngay thẳng\, Ta chỉ cho thấy ơn Thiên Chúa cứu độ. – Đáp. \nALLELUIA: Tv 118\, 27 \nAlleluia\, alleluia! – Xin Chúa cho con hiểu đường lối những huấn lệnh của Chúa\, và con suy gẫm các điều lạ lùng của Chúa. – Alleluia. \nPHÚC ÂM: Mc 10\, 28-31 \n“Ngay ở đời này\, lúc bị bắt bớ\, các con lãnh được gấp trăm\, còn đời sau các con sẽ được sự sống vĩnh cửu”. \nTin Mừng Chúa Giêsu Kitô theo Thánh Marcô. \nKhi ấy\, Phêrô thưa cùng Chúa Giêsu rằng: “Đây chúng con đã bỏ mọi sự mà theo Thầy?” Chúa Giêsu trả lời rằng: “Thầy bảo thật các con\, chẳng ai bỏ nhà cửa\, anh em\, chị em\, cha mẹ\, con cái\, đồng ruộng vì Thầy và vì Phúc Âm\, mà ngay bây giờ lại không được gấp trăm ở đời này về nhà cửa\, anh em\, chị em\, cha mẹ\, con cái và ruộng nương cùng với sự bắt bớ\, và ở đời sau được sự sống vĩnh cửu. Nhưng có nhiều kẻ trước nhất sẽ nên rốt hết\, và những kẻ rốt hết sẽ nên trước nhất”. Đó là lời Chúa. \nTHỨ BA TUẦN 8 TN – Mc 10\,28-31\nTỪ BỎ MỌI SỰ ĐỂ THEO CHÚA  \nÔng Phê-rô thưa Chúa Giê-su: “Thầy coi\, phần chúng con\, chúng con đã bỏ mọi sự mà theo Thầy!” (Mc 10\,28) \nSuy niệm: Bỏ mọi sự là điều kiện phải có để đi theo Chúa\, chứ không phải công trạng của người môn đệ để có quyền đòi hỏi Chúa phải đáp đền. Như nhựa cây chỉ dâng cao một khi các cành cây đã được cắt tỉa bớt và cây chỉ sống được nếu các dây leo ký sinh không làm nó tắc nghẽn\, thì đối với người môn đệ cũng thế\, những hy sinh và từ bỏ phải được thực hiện liên lỉ\, không phải một lần là đủ\, nhưng từng giây từng phút để lòng mến Chúa và các linh hồn được dâng cao và đời tông đồ được rõ nghĩa. Việc hy sinh và từ bỏ mọi sự nơi người môn đệ chỉ trọn vẹn ý nghĩa một khi chúng làm cho người môn đệ trở nên giống Chúa Giê-su trên thập giá. Bởi\, khi bị tước lột hết mọi sự\, ngay cả hơi thở sau cùng\, Chúa Giê-su mới thốt lên được lời mà cuộc đời Ngài muốn diễn tả: “Mọi sự đã hoàn tất.” Thực vậy\, thánh ý của Chúa Cha được Chúa Giê-su hoàn thành trong hy tế thánh giá của Ngài. \nMời Bạn: Bạn có thường tự hào về những đóng góp của bạn cho Giáo Hội không? Bạn có thường kể lể công trạng của bạn không? Lời Chúa hôm nay nhắc nhở bạn có tâm tình gì khi hy sinh và từ bỏ để phục vụ công cuộc loan báo Tin Mừng? \nSống Lời Chúa: Trước mỗi ngày mới\, bạn dâng lên Chúa một việc hy sinh và cuối ngày sống\, bạn kiểm điểm về việc thực hành lời hứa bạn đã có với Chúa. Cầu nguyện: Lạy Chúa Giê-su\, xin cho con biết tận tụy trong mọi công việc phục vụ Chúa và biết dâng lên Chúa những cố gắng của con. Nhưng xin Chúa cho con biết quảng đại\, để không đòi lại hay nhắc lại những gì đã hiến dâng\, vì tình yêu là hiến dâng.
URL:https://dongchuacuuthe.us/calendar/thu-ba-tuan-viii-thuong-nien-nam-i/
END:VEVENT
BEGIN:VEVENT
DTSTART;VALUE=DATE:20230530
DTEND;VALUE=DATE:20230531
DTSTAMP:20260425T071757
CREATED:20230522T054758Z
LAST-MODIFIED:20230522T054758Z
UID:7462-1685404800-1685491199@dongchuacuuthe.us
SUMMARY:Tuesday of the Eighth Week in Ordinary Time
DESCRIPTION:Reading 1\nSir 35:1-12\n\nTo keep the law is a great oblation\,\nand he who observes the\ncommandments sacrifices a peace offering.\nIn works of charity one offers fine flour\,\nand when he gives alms he presents his sacrifice of praise.\nTo refrain from evil pleases the LORD\,\nand to avoid injustice is an atonement.\nAppear not before the LORD empty-handed\,\nfor all that you offer is in fulfillment of the precepts.\nThe just one’s offering enriches the altar\nand rises as a sweet odor before the Most High.\nThe just one’s sacrifice is most pleasing\,\nnor will it ever be forgotten.\nIn a generous spirit pay homage to the LORD\,\nbe not sparing of freewill gifts.\nWith each contribution show a cheerful countenance\,\nand pay your tithes in a spirit of joy.\nGive to the Most High as he has given to you\,\ngenerously\, according to your means. \nFor the LORD is one who always repays\,\nand he will give back to you sevenfold.\nBut offer no bribes\, these he does not accept!\nTrust not in sacrifice of the fruits of extortion.\nFor he is a God of justice\,\nwho knows no favorites. \n\n\n\n\n\n\n\n\n\n\n\nResponsorial Psalm\nPs 50:5-6\, 7-8\, 14 and 23\n\nR. (23b) To the upright I will show the saving power of God.\n“Gather my faithful ones before me\,\nthose who have made a covenant with me by sacrifice.”\nAnd the heavens proclaim his justice;\nfor God himself is the judge.\nR. To the upright I will show the saving power of God.\n“Hear\, my people\, and I will speak;\nIsrael\, I will testify against you;\nGod\, your God\, am I.\nNot for your sacrifices do I rebuke you\,\nfor your burnt offerings are before me always.”\nR. To the upright I will show the saving power of God.\n“Offer to God praise as your sacrifice\nand fulfill your vows to the Most High.\nHe that offers praise as a sacrifice glorifies me;\nand to him that goes the right way I will show the salvation of God.”\nR. To the upright I will show the saving power of God.\n\n\n\n\n\n\n\n\n\n\n\nAlleluia\nsee mt 11:25\n\nR. Alleluia\, alleluia.\nBlessed are you\, Father\, Lord of heaven and earth;\nyou have revealed to little ones the mysteries of the Kingdom.\nR. Alleluia\, alleluia.\n\n\n\n\n\n\n\n\n\n\n\nGospel\nMk 10:28-31\n\nPeter began to say to Jesus\,\n‘We have given up everything and followed you.”\nJesus said\, “Amen\, I say to you\,\nthere is no one who has given up house or brothers or sisters\nor mother or father or children or lands\nfor my sake and for the sake of the Gospel\nwho will not receive a hundred times more now in this present age:\nhouses and brothers and sisters\nand mothers and children and lands\,\nwith persecutions\, and eternal life in the age to come.\nBut many that are first will be last\, and the last will be first.”
URL:https://dongchuacuuthe.us/calendar/tuesday-of-the-eighth-week-in-ordinary-time/
END:VEVENT
END:VCALENDAR