BEGIN:VCALENDAR
VERSION:2.0
PRODID:-//Dòng Chúa Cứu Thế Hải Ngoại - ECPv6.15.20//NONSGML v1.0//EN
CALSCALE:GREGORIAN
METHOD:PUBLISH
X-ORIGINAL-URL:https://dongchuacuuthe.us
X-WR-CALDESC:Events for Dòng Chúa Cứu Thế Hải Ngoại
REFRESH-INTERVAL;VALUE=DURATION:PT1H
X-Robots-Tag:noindex
X-PUBLISHED-TTL:PT1H
BEGIN:VTIMEZONE
TZID:America/Los_Angeles
BEGIN:DAYLIGHT
TZOFFSETFROM:-0800
TZOFFSETTO:-0700
TZNAME:PDT
DTSTART:20220313T100000
END:DAYLIGHT
BEGIN:STANDARD
TZOFFSETFROM:-0700
TZOFFSETTO:-0800
TZNAME:PST
DTSTART:20221106T090000
END:STANDARD
BEGIN:DAYLIGHT
TZOFFSETFROM:-0800
TZOFFSETTO:-0700
TZNAME:PDT
DTSTART:20230312T100000
END:DAYLIGHT
BEGIN:STANDARD
TZOFFSETFROM:-0700
TZOFFSETTO:-0800
TZNAME:PST
DTSTART:20231105T090000
END:STANDARD
BEGIN:DAYLIGHT
TZOFFSETFROM:-0800
TZOFFSETTO:-0700
TZNAME:PDT
DTSTART:20240310T100000
END:DAYLIGHT
BEGIN:STANDARD
TZOFFSETFROM:-0700
TZOFFSETTO:-0800
TZNAME:PST
DTSTART:20241103T090000
END:STANDARD
END:VTIMEZONE
BEGIN:VEVENT
DTSTART;VALUE=DATE:20230527
DTEND;VALUE=DATE:20230528
DTSTAMP:20260425T083235
CREATED:20230522T035857Z
LAST-MODIFIED:20230522T040557Z
UID:7354-1685145600-1685231999@dongchuacuuthe.us
SUMMARY:Thứ Bảy Tuần VII Phục Sinh
DESCRIPTION:BÀI ĐỌC I: Cv 28\, 16-20. 30-31\n“Ngài ở lại Rôma\, rao giảng nước Thiên Chúa”. \nTrích sách Tông đồ Công vụ. \nKhi chúng tôi đến Rôma\, Phaolô được phép ở nhà riêng với người lính canh. Sau ba hôm\, ngài mời các đầu mục người Do-thái đến. Khi họ đến\, ngài nói với họ: “Thưa anh em\, dầu tôi đây không làm điều gì phạm đến dân tộc hay tục lệ tổ tiên\, mà tôi đã bị bắt tại Giêrusa-lem và bị nộp trong tay người Rôma. Khi đã điều tra\, họ muốn thả tôi vì tôi không có tội gì đáng chết. Nhưng người Do-thái chống lại\, nên tôi buộc lòng phải nại đến hoàng đế\, nhưng không phải là tôi có gì kiện cáo dân tôi. Do đó tôi đã xin gặp anh em và nói chuyện: Chính vì niềm hy vọng của Israel mà tôi phải mang xiềng xích này”. \nSuốt hai năm\, ngài trú tại ngôi nhà đã thuê\, tiếp nhận tất cả những ai đến gặp ngài\, ngài rao giảng nước Thiên Chúa và dạy dỗ những điều về Chúa Giêsu Kitô một cách dạn dĩ\, không có ai ngăn cấm. Đó là lời Chúa. \nĐÁP CA: Tv 10\, 5. 6 và 8\nĐáp: Lạy Chúa\, người chính trực sẽ nhìn thấy tôn nhan Chúa (c. 8b). \nHoặc đọc: Alleluia. \nXướng: 1) Chúa kiểm soát người hiền đức\, kẻ ác nhân\, ai chuộng điều ác\, thì linh hồn Người ghét bỏ. – Đáp. \n2) Trên lũ tội nhân Người làm mưa than đỏ diêm sinh\, và phần chén của chúng là luồng gió lửa. Bởi Chúa công minh\, nên Người thích chuyện công minh\, người chính trực sẽ nhìn thấy thiên nhan. – Đáp. \nALLELUIA: Ga 14\, 16\nAlleluia\, alleluia! – Thánh Thần sẽ dạy các con mọi điều\, và sẽ nhắc nhở cho các con tất cả những gì Thầy đã nói với các con. – Alleluia. \nPHÚC ÂM: Ga 21\, 20-25\n“Chính môn đệ này làm chứng về những việc đó và đã viết ra”. \nTin Mừng Chúa Giêsu Kitô theo Thánh Gioan. \nKhi ấy\, Phêrô quay lại\, thấy môn đệ Chúa Giêsu yêu mến theo sau\, cũng là người nằm sát ngực Chúa trong bữa ăn tối và hỏi “Thưa Thầy\, ai là người sẽ nộp Thầy?” Vậy khi thấy môn đệ đó\, Phêrô hỏi Chúa Giêsu rằng: “Còn người này thì sao?” Chúa Giêsu đáp: “Nếu Thầy muốn nó cứ ở lại mãi cho tới khi Thầy đến thì việc gì đến con? Phần con\, cứ theo Thầy”. Vì thế\, có tiếng đồn trong anh em là môn đệ này sẽ không chết. Nhưng Chúa Giêsu không nói với Phêrô: “Nó sẽ không chết”\, mà Người chỉ nói: “Nếu Thầy muốn nó cứ ở lại mãi cho tới khi Thầy đến thì việc gì đến con”. \nChính môn đệ này làm chứng về những việc đó và đã viết ra\, và chúng tôi biết lời chứng của người ấy xác thật. Còn nhiều việc khác Chúa Giêsu đã làm\, nếu chép lại từng việc một thì tôi thiết tưởng cả thế giới cũng không thể chứa hết các sách viết ra. Đó là lời Chúa. \nTHỨ BẢY TUẦN 7 PS –  Ga 21\,20-25\nCĂN TÍNH KI-TÔ HỮU ĐÍCH THỰC  \n“Giả như Thầy muốn anh ấy còn ở lại cho tới khi Thầy đến\, thì việc gì đến anh? Phần anh\, hãy theo Thầy.” (Ga 21\,22) \nSuy niệm: Dấn thân phục vụ con người qua những công việc từ thiện bác ái\, quả là một điều cao quý và rất đáng ngưỡng mộ. Đã hẳn\, mọi người\, thuộc mọi tôn giáo cũng như không tôn giáo đều coi trọng công việc này. Nhưng những môn đệ Chúa Ki-tô không dừng lại ở chỗ làm được bao nhiêu công việc như thế\, hoặc bằng lòng với những thành quả mà những công việc ấy mang lại và coi đó như là cùng đích cho hoạt động của mình. Tinh thần triệt để của Tin Mừng mời gọi người môn đệ Chúa phải đi xa hơn. Lời Chúa nói với Phê-rô: “Phần anh\, hãy theo Thầy” nhắc nhở các môn đệ nhớ điều cốt lõi này\, đó là đi theo và thuộc về Chúa Ki-tô mỗi ngày một mật thiết hơn thông qua các bổn phận\, các việc thiện hảo họ làm thường ngày. \nMời Bạn: Sống giữa một xã hội đang mắc căn bệnh thực dụng chạy theo thành tích\, đến độ “nghiện” công việc (workaholic)\, bạn và tôi lắm khi cũng bị cám dỗ xem sự thành công của việc làm là quan trọng\, mà quên đi điều căn bản của người Ki-tô hữu chúng ta là bước theo và thuộc về Đức Ki-tô. Hôm nay\, bạn và tôi được mời gọi trở về với căn tính Ki-tô đích thực của mình. \nChia sẻ: Bạn có cảm thấy khó khăn  khi phải lựa chọn giữa Chúa và công việc của Chúa không? Vì sao? \nSống Lời Chúa: Phó thác cho Chúa mọi công việc trước khi chúng ta làm. \nCầu nguyện: Lạy Chúa Giê-su\, Chúa đã gọi chúng con trở nên những môn đệ của Chúa. Xin giúp chúng con luôn biết lắng nghe tiếng Chúa và bước đi theo Chúa trong suốt cuộc đời. Amen. \nSUY NIỆM \nBài Tin Mừng hôm qua và bài Tin Mừng của Thánh Lễ hôm nay làm nên phần kết của sách Tin Mừng theo thánh Gioan. \nTrong bài Tin Mừng hôm qua\, hình ảnh thánh Phê-rô được nêu bật như là người mục tử\, với sứ mạng chăn dắt đoàn chiên\, dựa trên tình yêu dành cho Đức Ki-tô. Nhưng trong bài Tin Mừng hôm nay\, hình ảnh “Người môn đệ Đức Giê-su thương mến” được đưa lên hàng đầu\, cùng với những lời chứng mà người môn đệ này để lại cho chúng ta. \n1. “Ở lại” \nTrả lời cho câu hỏi với ít nhiều tò mò của thánh Phê-rô về Người môn đệ Đức Giê-su thương mến : “Thưa Thầy\, còn anh này thì sao ?”\, Đức Giê-su nói : “Giả như Thầy muốn anh ấy còn ở lại cho tới khi Thầy đến\, thì việc gì đến anh?” Câu trả lời của Đức Giê-su không phải là một giả định không có thật\, nhưng nói tới trường hợp Chúa muốn và trong thực tế\, Ngài đã muốn như vậy : Ngài muốn rằng Người môn đệ Ngài thương mến “ở lại” cho tới khi Ngài đến. “Ở lại”\, chứ không phải cứ sống mãi “không chết”\, như lời đồn được lan truyền giữa các môn đệ. \nVậy\, “ở lại” theo Đức Ki-tô phục sinh có nghĩa là gì ? Bởi vì\, một người có thể ở lại hay hiện diện theo những cách thức khác nhau : bằng chính con người thể lí của mình\, hoặc bằng chính tác phẩm hay công trình của mình. Vì thế\, lời của Đức Ki-tô không hướng trực tiếp tới sự hiện diện thể lí của Người môn đệ Ngài thương mến\, nhưng hướng tới sứ điệp Tin Mừng mà Người môn đệ đã thấm nhuần sâu xa và truyền đạt lại cho chúng ta. \n2. Lời chứng \nNhư thế\, Đức Ki-tô muốn mặc khải cho thánh Phê-rô rằng\, theo ý muốn của Ngài\, lời chứng của Người môn đệ Ngài thương mến sẽ tồn tại mãi cho đến tận thế\, cho đến lúc Ngài trở lại. Và như chúng ta đã có thể nhận ra\, quyết định này của Đức Ki-tô về Người môn đệ Ngài thương mến đang được thực sự thực hiện : một đàng\, Người môn đệ này nhấn mạnh đặc biệt đến giá trị của lời chứng mà mình để lại trong Tin Mừng thứ tư : “Chính môn đệ này làm chứng về những điều đó và đã viết ra. Chúng tôi biết rằng lời chứng của người ấy là xác thực” ; và đàng khác\, Giáo Hội và mỗi người chúng ta càng ngày càng khám phá ra giá trị bất hủ và thâm sâu của lời chứng mà Người môn đệ Đức Ki-tô thương mến để lại trong sách Tin Mừng của mình. \nĐặc biệt\, trong Mùa Chay và Mùa Phục Sinh\, và nhất là trong những tuần vừa qua\, Giáo Hội mời gọi chúng ta chiêm ngắm cách đặc biệt dung nhan rạng ngời của Đức Ki-tô\, theo Tin Mừng Gioan\, nghĩa là Tin Mừng của Người môn đệ Đức Giê-su thương mến. \n3. “Người môn đệ Đức Giê-su thương mến” \nNgoài ra\, lời của Đức Ki-tô về Người môn đệ Ngài thương mến còn có thể mang một ý nghĩa khác\, khi chúng ta không nhìn Người môn đệ như là thánh tông đồ Gioan\, nhưng như là hình ảnh tiêu biểu của người môn đệ đi theo Đức Ki-tô. Và theo Đức Ki-tô phục sinh\, hình ảnh này sẽ tồn tại mãi cho tới khi Ngài đến. \n– Bởi vì\, đó là hình ảnh Người môn đệ có một tương quan thiết thân với Đức Giê-su. Trong bài Tin Mừng\, có một minh họa tuyệt vời cho mối tương quan thiết thân này : “ông này là người đã nghiêng mình vào ngực Đức Giê-su trong bữa ăn tối”. \n– Bởi vì\, đó là hình ảnh Người môn đệ đã nhận ra Đức Ki-tô phục sinh\, khi nhìn thấy các dấu chỉ Ngài để lại trong ngôi mồ mở. \n– Bởi vì đó là hình ảnh Người môn đệ đã nhận ra Đức Ki-tô hiện diện sống động trên bờ hồ Tiberia\, nghĩa là ngay trong đời thường\, khi nhìn thấy dấu chỉ mẻ cá lạ. \n– Và bởi vì\, đây là lí do quan trọng nhất\, đó là hình ảnh Người môn đệ đã kinh nghiệm thật sâu xa tình yêu mà Đức Giê-su đã dành cho mình\, và đã đi theo Ngài\, cũng bằng tình yêu\, cho đến cùng. \nMỗi người chúng ta cũng được mời gọi nhận ra chính mình\, dù còn đầy bất toàn và tội lỗi\, là “Người môn đệ Đức Giê-su thương mến”\, để cho lời của Đấng Phục Sinh được ứng nghiệm hôm nay và cho đến khi Ngài trở lại. \nLm Giuse Nguyễn Văn Lộc
URL:https://dongchuacuuthe.us/calendar/thu-bay-tuan-vii-phuc-sinh/
END:VEVENT
BEGIN:VEVENT
DTSTART;VALUE=DATE:20230527
DTEND;VALUE=DATE:20230528
DTSTAMP:20260425T083235
CREATED:20230522T054544Z
LAST-MODIFIED:20230522T054544Z
UID:7456-1685145600-1685231999@dongchuacuuthe.us
SUMMARY:Saturday of the Seventh Week of Easter - Mass in the Morning
DESCRIPTION:Reading 1\nActs 28:16-20\, 30-31\n\nWhen he entered Rome\, Paul was allowed to live by himself\,\nwith the soldier who was guarding him. \nThree days later he called together the leaders of the Jews.\nWhen they had gathered he said to them\, “My brothers\,\nalthough I had done nothing against our people\nor our ancestral customs\,\nI was handed over to the Romans as a prisoner from Jerusalem.\nAfter trying my case the Romans wanted to release me\,\nbecause they found nothing against me deserving the death penalty.\nBut when the Jews objected\, I was obliged to appeal to Caesar\,\neven though I had no accusation to make against my own nation.\nThis is the reason\, then\, I have requested to see you\nand to speak with you\, for it is on account of the hope of Israel\nthat I wear these chains.” \nHe remained for two full years in his lodgings.\nHe received all who came to him\, and with complete assurance\nand without hindrance he proclaimed the Kingdom of God\nand taught about the Lord Jesus Christ. \n\n\n\n\n\n\n\n\n\n\n\nResponsorial Psalm\nPs 11:4\, 5 and 7\n\nR. (see 7b)  The just will gaze on your face\, O Lord.\nor:\nR. Alleluia.\nThe LORD is in his holy temple;\nthe LORD’s throne is in heaven.\nHis eyes behold\,\nhis searching glance is on mankind.\nR. The just will gaze on your face\, O Lord.\nor:\nR. Alleluia.\nThe LORD searches the just and the wicked;\nthe lover of violence he hates.\nFor the LORD is just\, he loves just deeds;\nthe upright shall see his face.\nR. The just will gaze on your face\, O Lord.\nor:\nR. Alleluia.\n\n\n\n\n\n\n\n\n\n\n\nAlleluia\nJn 16:7\, 13\n\nR. Alleluia\, alleluia.\nI will send to you the Spirit of truth\, says the Lord;\nhe will guide you to all truth.\nR. Alleluia\, alleluia.\n\n\n\n\n\n\n\n\n\n\n\nGospel\nJn 21:20-25\n\nPeter turned and saw the disciple following whom Jesus loved\,\nthe one who had also reclined upon his chest during the supper\nand had said\, “Master\, who is the one who will betray you?”\nWhen Peter saw him\, he said to Jesus\, “Lord\, what about him?”\nJesus said to him\, “What if I want him to remain until I come?\nWhat concern is it of yours?\nYou follow me.”\nSo the word spread among the brothers that that disciple would not die.\nBut Jesus had not told him that he would not die\,\njust “What if I want him to remain until I come?\nWhat concern is it of yours?” \nIt is this disciple who testifies to these things\nand has written them\, and we know that his testimony is true.\nThere are also many other things that Jesus did\,\nbut if these were to be described individually\,\nI do not think the whole world would contain the books\nthat would be written.
URL:https://dongchuacuuthe.us/calendar/saturday-of-the-seventh-week-of-easter-mass-in-the-morning/
END:VEVENT
END:VCALENDAR