BEGIN:VCALENDAR
VERSION:2.0
PRODID:-//Dòng Chúa Cứu Thế Hải Ngoại - ECPv6.15.20//NONSGML v1.0//EN
CALSCALE:GREGORIAN
METHOD:PUBLISH
X-ORIGINAL-URL:https://dongchuacuuthe.us
X-WR-CALDESC:Events for Dòng Chúa Cứu Thế Hải Ngoại
REFRESH-INTERVAL;VALUE=DURATION:PT1H
X-Robots-Tag:noindex
X-PUBLISHED-TTL:PT1H
BEGIN:VTIMEZONE
TZID:America/Los_Angeles
BEGIN:DAYLIGHT
TZOFFSETFROM:-0800
TZOFFSETTO:-0700
TZNAME:PDT
DTSTART:20220313T100000
END:DAYLIGHT
BEGIN:STANDARD
TZOFFSETFROM:-0700
TZOFFSETTO:-0800
TZNAME:PST
DTSTART:20221106T090000
END:STANDARD
BEGIN:DAYLIGHT
TZOFFSETFROM:-0800
TZOFFSETTO:-0700
TZNAME:PDT
DTSTART:20230312T100000
END:DAYLIGHT
BEGIN:STANDARD
TZOFFSETFROM:-0700
TZOFFSETTO:-0800
TZNAME:PST
DTSTART:20231105T090000
END:STANDARD
BEGIN:DAYLIGHT
TZOFFSETFROM:-0800
TZOFFSETTO:-0700
TZNAME:PDT
DTSTART:20240310T100000
END:DAYLIGHT
BEGIN:STANDARD
TZOFFSETFROM:-0700
TZOFFSETTO:-0800
TZNAME:PST
DTSTART:20241103T090000
END:STANDARD
END:VTIMEZONE
BEGIN:VEVENT
DTSTART;VALUE=DATE:20230524
DTEND;VALUE=DATE:20230525
DTSTAMP:20260425T083236
CREATED:20230522T035728Z
LAST-MODIFIED:20230522T040356Z
UID:7348-1684886400-1684972799@dongchuacuuthe.us
SUMMARY:Thứ Tư Tuần VII Phục Sinh
DESCRIPTION:BÀI ĐỌC I: Cv 20\, 28-38\n“Tôi xin ký thác các ông cho Thiên Chúa\, Đấng có quyền năng kiến tạo và ban cho các ông được dự phần gia nghiệp”. \nTrích sách Tông đồ Công vụ. \nTrong những ngày ấy\, Phaolô nói với các trưởng giáo đoàn Êphêxô rằng: “Các ông hãy thận trọng\, và săn sóc đoàn chiên mà Thánh Thần đã đặt các ông làm giám quản điều khiển giáo đoàn của Chúa đã được Người cứu chuộc bằng máu. Phần tôi\, tôi biết rằng sau khi tôi đi rồi\, sẽ có những sói dữ đột nhập giữa các ông\, chúng không dung tha đoàn chiên; và ngay giữa các ông sẽ có những kẻ ăn nói xảo trá nổi dậy để lôi kéo các môn đồ theo họ. Vì thế\, các ông hãy tỉnh thức\, và nhớ rằng trong ba năm trời\, đêm ngày tôi không ngừng sa lệ mà khuyên bảo từng người. Và bây giờ\, tôi xin ký thác các ông cho Thiên Chúa và cho lời ân sủng của Người\, Người là Đấng có quyền năng kiến tạo và ban cho các ông được dự phần gia nghiệp làm một với tất cả mọi người đã được thánh hoá. Tôi đã không ham muốn bạc\, vàng\, hay y phục của ai hết\, như chính các ông đã biết. Những đồ gì tôi và những kẻ ở với tôi cần dùng\, thì chính hai bàn tay này đã làm ra. Bằng mọi cách\, tôi đã chỉ bảo cho các ông rằng phải làm việc như vậy\, để nâng đỡ những người yếu đuối\, và ghi nhớ lời Chúa Giêsu đã phán: ‘Cho thì có phúc hơn là nhận'”. \nNói xong\, ngài quỳ xuống cầu nguyện với mọi người. Ai nấy đều khóc lớn tiếng\, và ôm cổ Phaolô mà hôn\, họ đau buồn nhất là vì lời ngài vừa nói rằng họ sẽ không còn thấy mặt ngài nữa. Rồi họ tiễn đưa ngài xuống tàu. Đó là lời Chúa. \nĐÁP CA: Tv 67\, 29-30. 33-35a. 35b-36c\nĐáp: Chư quốc trần ai\, hãy ca khen Thiên Chúa (c. 33a). \nHoặc đọc: Alleluia. \nXướng: 1) Ôi Thiên Chúa\, xin tỏ ra quyền năng của Chúa. Ôi Thiên Chúa\, xin củng cố sự việc Chúa đã làm cho chúng con! Vì thánh đài của Chúa ở Giêrusalem\, các vua sẽ tiến dâng Ngài lễ vật. – Đáp. \n2) Chư quốc trần ai\, hãy ca khen Thiên Chúa\, hãy xướng lên bài ca mừng Chúa\, mừng Đấng ngự giá qua cõi trời\, cõi trời ngàn thu! Kìa Ngài lên tiếng\, tiếng nói quyền năng: “Các ngươi hãy nhìn biết quyền năng Thiên Chúa”. – Đáp. \n3) Oai nghiêm Ngài chiếu giãi trên Israel\, và quyền năng Ngài trên cõi nước mây. Từ thánh điện của Ngài\, Thiên Chúa đáng tôn sợ. Thiên Chúa của Israel\, chính Ngài ban cho dân Ngài được quyền năng và mãnh lực. – Đáp. \nALLELUIA: Mt 28\, 19 và 20\nAlleluia\, alleluia! – Chúa phán: “Các con hãy đi giảng dạy muôn dân: Thầy sẽ ở cùng các con mọi ngày cho đến tận thế”. – Alleluia. \nPHÚC ÂM: Ga 17\, 11b-19\n“Để chúng được nên một như Ta”. \nTin Mừng Chúa Giêsu Kitô theo Thánh Gioan. \nKhi ấy\, Chúa Giêsu ngước mắt lên trời cầu nguyện rằng: “Lạy Cha chí thánh\, xin hãy gìn giữ trong danh Cha những kẻ Cha đã ban cho Con\, để chúng được nên một như Ta. Khi Con còn ở với chúng\, Con đã gìn giữ chúng trong Cha. Con đã gìn giữ những kẻ Cha đã giao phó cho Con\, không một ai trong chúng bị mất\, trừ ra con người hư vong\, để lời Kinh Thánh được nên trọn. Bây giờ Con về cùng Cha\, và Con nói những điều này khi Con còn dưới thế\, để chúng được đầy sự vui mừng của Con trong lòng. \n“Con đã ban lời Cha cho chúng\, và thế gian đã ghét chúng\, vì chúng không thuộc về thế gian\, cũng như Con không thuộc về thế gian. Con không xin Cha đem chúng ra khỏi thế gian\, nhưng xin gìn giữ chúng cho khỏi sự dữ. Chúng không thuộc về thế gian\, cũng như Con không thuộc về thế gian. Xin hãy thánh hoá chúng trong chân lý: lời Cha là chân lý. Cũng như Cha đã sai Con vào thế gian\, thì Con cũng sai chúng vào thế gian. Và vì chúng\, Con đã tự thánh hoá\, để cả chúng cũng được thánh hoá trong chân lý”. Đó là lời Chúa. \nTHỨ TƯ TUẦN 7 PS-Ga 17\,11b-19\nTHÁNH HIẾN TRONG SỰ THẬT  \n“Xin Cha lấy sự thật mà thánh hiến họ. Lời Cha là sự thật… Con xin thánh hiến chính mình con cho họ\, để nhờ sự htật\, họ cũng được thánh hiến.” (Ga 17\,17.19) \nSuy niệm: 1. Chúa Giê-su thánh hiến chính mình Ngài cho chúng ta: Đức Giê-su là sự thật. Ngài là lời của Thiên Chúa. Chính Ngài đã dùng lời của Ngài để thánh tẩy\, hướng dẫn và soi sáng chúng ta\, để chúng ta thuộc về Thiên Chúa. Ngài thánh hiến chính mình Ngài cách tuyệt đỉnh bằng hy tế thập giá mà giờ đây vẫn tiếp diễn qua hy tế thánh thể trên bàn thờ. 2. Chúng ta được thánh hiến cho Chúa trong sự thật : Người đã cầu xin Thiên Chúa Cha thánh hóa cho chúng ta trong sự thật của Người. Bí tích Rửa tội cho chúng ta tham dự vào thế giới thần linh của Thiên Chúa. “Xin Cha lấy sự thật mà thánh hiến họ” (Gn 17\,17). \nMời Bạn tự xét mình: – Qua Bí Tích Rửa Tội\, bạn được thánh hiến để làm con Chúa\, bạn đã sống đúng vai trò là con cái Chúa\, hay bạn chạy theo thế gian\, xác thịt mà quên sự thật của mình là con cái sự sáng không? – Chính Chúa Giê-su là sự thật\, là Lời của Thiên Chúa. Mỗi khi đọc lời Chúa\, bạn đã cảm nhận và yêu mến Người chưa? – Bạn có siêng năng lãnh nhận Thánh Thể là chính Chúa Giê-su thánh hiến mình Ngài cho chúng ta để chúng ta cũng được thánh hiến nhờ kết hiệp với Ngài? \nSống Lời Chúa: Nhắc nhủ mọi người trong gia đình chuyên cần đọc Lời Chúa và rước Thánh Thể để được thánh hiến cho Chúa. \nCầu nguyện: Lạy Chúa Giê-su\, Chúa đã xin Chúa Cha thánh hiến chúng con bằng lời chân lý Chúa. Xin cho chúng con biết sống theo sự thật để luôn được thuộc trọn về Chúa.
URL:https://dongchuacuuthe.us/calendar/thu-tu-tuan-vii-phuc-sinh/
END:VEVENT
BEGIN:VEVENT
DTSTART;VALUE=DATE:20230524
DTEND;VALUE=DATE:20230525
DTSTAMP:20260425T083236
CREATED:20230522T054240Z
LAST-MODIFIED:20230522T054240Z
UID:7449-1684886400-1684972799@dongchuacuuthe.us
SUMMARY:Wednesday of the Seventh Week of Easter
DESCRIPTION:Reading 1\nActs 20:28-38\n\nAt Miletus\, Paul spoke to the presbyters of the Church of Ephesus:\n“Keep watch over yourselves and over the whole flock\nof which the Holy Spirit has appointed you overseers\,\nin which you tend the Church of God\nthat he acquired with his own Blood.\nI know that after my departure savage wolves will come among you\,\nand they will not spare the flock.\nAnd from your own group\, men will come forward perverting the truth\nto draw the disciples away after them.\nSo be vigilant and remember that for three years\, night and day\,\nI unceasingly admonished each of you with tears.\nAnd now I commend you to God\nand to that gracious word of his that can build you up\nand give you the inheritance among all who are consecrated.\nI have never wanted anyone’s silver or gold or clothing.\nYou know well that these very hands\nhave served my needs and my companions.\nIn every way I have shown you that by hard work of that sort\nwe must help the weak\,\nand keep in mind the words of the Lord Jesus who himself said\,\n‘It is more blessed to give than to receive.’” \nWhen he had finished speaking\nhe knelt down and prayed with them all.\nThey were all weeping loudly\nas they threw their arms around Paul and kissed him\,\nfor they were deeply distressed that he had said\nthat they would never see his face again.\nThen they escorted him to the ship. \n\n\n\n\n\n\n\n\n\n\n\nResponsorial Psalm\nPS 68:29-30\, 33-35a\, 35bc-36ab\n\nR. (33a) Sing to God\, O kingdoms of the earth.\nor:\nR. Alleluia.\nShow forth\, O God\, your power\,\nthe power\, O God\, with which you took our part;\nFor your temple in Jerusalem\nlet the kings bring you gifts.\nR. Sing to God\, O Kingdoms of the earth. \nor:\nR. Alleluia.\nYou kingdoms of the earth\, sing to God\,\nchant praise to the Lord\nwho rides on the heights of the ancient heavens.\nBehold\, his voice resounds\, the voice of power:\n“Confess the power of God!”\nR. Sing to God\, O kingdoms of the earth.\nor:\nR. Alleluia.\nOver Israel is his majesty;\nhis power is in the skies.\nAwesome in his sanctuary is God\, the God of Israel;\nhe gives power and strength to his people.\nR. Sing to God\, O kingdoms of the earth.\nor:\nR. Alleluia.\n\n\n\n\n\n\n\n\n\n\n\nAlleluia\nSee Jn 17:17b\, 17a\n\nR. Alleluia\, alleluia.\nYour word\, O Lord\, is truth;\nconsecrate us in the truth.\nR. Alleluia\, alleluia.\n\n\n\n\n\n\n\n\n\n\n\nGospel\nJn 17:11b-19\n\nLifting up his eyes to heaven\, Jesus prayed\, saying:\n“Holy Father\, keep them in your name\nthat you have given me\,\nso that they may be one just as we are one.\nWhen I was with them I protected them in your name that you gave me\,\nand I guarded them\, and none of them was lost\nexcept the son of destruction\,\nin order that the Scripture might be fulfilled.\nBut now I am coming to you.\nI speak this in the world\nso that they may share my joy completely.\nI gave them your word\, and the world hated them\,\nbecause they do not belong to the world\nany more than I belong to the world.\nI do not ask that you take them out of the world\nbut that you keep them from the Evil One.\nThey do not belong to the world\nany more than I belong to the world.\nConsecrate them in the truth.\nYour word is truth.\nAs you sent me into the world\,\nso I sent them into the world.\nAnd I consecrate myself for them\,\nso that they also may be consecrated in truth.”
URL:https://dongchuacuuthe.us/calendar/wednesday-of-the-seventh-week-of-easter/
END:VEVENT
END:VCALENDAR