BEGIN:VCALENDAR
VERSION:2.0
PRODID:-//Dòng Chúa Cứu Thế Hải Ngoại - ECPv6.15.20//NONSGML v1.0//EN
CALSCALE:GREGORIAN
METHOD:PUBLISH
X-WR-CALNAME:Dòng Chúa Cứu Thế Hải Ngoại
X-ORIGINAL-URL:https://dongchuacuuthe.us
X-WR-CALDESC:Events for Dòng Chúa Cứu Thế Hải Ngoại
REFRESH-INTERVAL;VALUE=DURATION:PT1H
X-Robots-Tag:noindex
X-PUBLISHED-TTL:PT1H
BEGIN:VTIMEZONE
TZID:America/Los_Angeles
BEGIN:DAYLIGHT
TZOFFSETFROM:-0800
TZOFFSETTO:-0700
TZNAME:PDT
DTSTART:20220313T100000
END:DAYLIGHT
BEGIN:STANDARD
TZOFFSETFROM:-0700
TZOFFSETTO:-0800
TZNAME:PST
DTSTART:20221106T090000
END:STANDARD
BEGIN:DAYLIGHT
TZOFFSETFROM:-0800
TZOFFSETTO:-0700
TZNAME:PDT
DTSTART:20230312T100000
END:DAYLIGHT
BEGIN:STANDARD
TZOFFSETFROM:-0700
TZOFFSETTO:-0800
TZNAME:PST
DTSTART:20231105T090000
END:STANDARD
BEGIN:DAYLIGHT
TZOFFSETFROM:-0800
TZOFFSETTO:-0700
TZNAME:PDT
DTSTART:20240310T100000
END:DAYLIGHT
BEGIN:STANDARD
TZOFFSETFROM:-0700
TZOFFSETTO:-0800
TZNAME:PST
DTSTART:20241103T090000
END:STANDARD
END:VTIMEZONE
BEGIN:VEVENT
DTSTART;VALUE=DATE:20230522
DTEND;VALUE=DATE:20230523
DTSTAMP:20260425T083835
CREATED:20230522T035544Z
LAST-MODIFIED:20230522T035544Z
UID:7343-1684713600-1684799999@dongchuacuuthe.us
SUMMARY:Thứ Hai Tuần VII Phục Sinh
DESCRIPTION:BÀI ĐỌC I: Cv 19\, 1-8\n“Anh em tin mà đã nhận Thánh Thần chưa?” \nTrích sách Tông đồ Công vụ. \nXảy ra là khi Apollô ở Côrintô\, thì Phaolô đi miền thượng du\, rồi đến Êphêxô gặp một số môn đồ\, và ngài hỏi họ: “Anh em tin mà đã nhận Thánh Thần chưa?” Họ trả lời: “Nguyên việc có Thánh Thần hay không\, chúng tôi cũng chưa nghe nói”. Ngài lại hỏi: “Vậy các ngươi đã chịu phép rửa của ai?” Họ thưa: “Phép rửa của Gioan”. Phaolô liền bảo: “Gioan thanh tẩy dân chúng bằng phép rửa sám hối mà rằng: Hãy tin vào Đấng sẽ đến sau ông\, tức là Đức Giêsu”. Nghe vậy\, họ đã chịu phép rửa nhân danh Chúa Giêsu. Và khi Phaolô đặt tay trên họ\, thì Thánh Thần đến ngự xuống trên họ\, họ liền nói được nhiều thứ tiếng và nói tiên tri. Tất cả đàn ông chừng mười hai người. \nNgài vào hội đường\, và trong suốt ba tháng\, Ngài mạnh dạn rao giảng\, tranh luận và thuyết phục về nước Thiên Chúa. Đó là lời Chúa. \nĐÁP CA: Tv 67\, 2-3. 4-5ac. 6-7ab\nĐáp: Chư quốc trần ai\, hãy ca khen Thiên Chúa (c. 33a). \nHoặc đọc: Alleluia. \nXướng: 1) Thiên Chúa đứng lên\, quân thù của Người tan rã\, và những kẻ ghét Người chạy trốn khỏi long nhan. Như làn khói toả\, chúng rã tan\, như mẩu sáp ong gần lửa chảy ra\, những đứa ác nhân tiêu vong trước nhan Thiên Chúa. – Đáp. \n2) Những người hiền đức mừng rỡ hỉ hoan\, trước nhan Thiên Chúa họ mừng vui sung sướng. Hãy hát mừng Thiên Chúa\, hãy đàn ca danh Người\, danh hiệu Người là Chúa\, hãy mừng rỡ hân hoan trước nhan Người. – Đáp. \n3) Là Cha kẻ mồ côi\, là Đấng bênh vực người quả phụ\, Thiên Chúa ngự trong thánh điện của Người. Thiên Chúa tạo nhà cửa cho những người bị bỏ rơi\, dẫn đưa những người tù tội ra nơi thịnh đạt. – Đáp \nALLELUIA: Mt 28\, 19 và 20\nAlleluia\, alleluia! – Chúa phán: “Các con hãy đi giảng dạy muôn dân: Thầy sẽ ở cùng các con mọi ngày cho đến tận thế”. – Alleluia. \nPHÚC ÂM: Ga 16\, 29-33\n“Hãy can đảm lên\, Thầy đã thắng thế gian”. \nTin Mừng Chúa Giêsu Kitô theo Thánh Gioan. \nKhi ấy\, các môn đệ thưa Chúa Giêsu rằng: “Đúng thế\, bây giờ Thầy nói rõ ràng\, và không dùng dụ ngôn nữa. Bây giờ chúng con biết rằng Thầy biết mọi sự\, không cần có ai hỏi Thầy nữa. Bởi đó chúng con tin Thầy bởi Thiên Chúa mà ra”. Chúa Giêsu đáp lại các ông: “Bây giờ các con mới tin ư? Này đến giờ\, và đã đến rồi\, các con sẽ tản mát mỗi người một ngả\, bỏ mặc Thầy một mình. Nhưng Thầy không ở một mình đâu\, vì có Cha hằng ở với Thầy. Thầy nói với các con những điều đó để các con được bình an trong Thầy. Giữa thế gian\, các con sẽ phải đau khổ\, nhưng hãy can đảm lên\, Thầy đã thắng thế gian”. Đó là lời Chúa. \nTHỨ HAI TUẦN 7 PS  –  Ga 16\,29-33\nTHẦY ĐÃ THẮNG THẾ GIAN  \n“Can đảm lên! Thầy đã thắng thế gian!”(Ga 16\,33) \nSuy niệm: Các môn đệ có làm cho chúng ta ngạc nhiên\, khi nói rằng: “Bây giờ chúng con tin Thầy từ Thiên Chúa mà đến”? Sau ba năm sống gần Thầy\, thấy các phép lạ\, nghe các lời dạy bảo của Thầy\, mà đến bây giờ các ông mới tin vào Chúa\, kể cũng… đã muộn! Thế nhưng chúng ta còn ngạc nhiên hơn\, khi thấy rằng thật ra các ông “nói vậy nhưng không phải vậy”: trong cuộc khổ nạn\, các ông đã thất đảm\, chối thầy\, phản bội\, chạy trốn\, bỏ mặc Chúa một mình… Chúa Giê-su thấy rõ đức tin non nớt của các ông. Ngài không trách\, trái lại\, còn cảm thông và củng cố bằng những lời đầy khích lệ: “Trong thế gian\, anh em sẽ phải gian nan khốn khó\, nhưng can đảm lên! Thầy đã thắng thế gian”. \nMời Bạn: Để cùng chiến thắng với Đức Ki-tô mời bạn đặt niềm tin vào Ngài: “Ai là kẻ thắng được thế gian\, nếu không phải là người tin rằng Đức Giê-su là Con Thiên Chúa?” (1Ga 5\,5). Nhiều khi chúng ta tưởng mình đã tin Chúa vững mạnh\, nhưng khi phải đối diện với thử thách\, chúng ta mới nhận ra rằng niềm tin của mình còn mong manh lắm. Bạn đã áp dụng những phương thế nào để củng cố đức tin: học hỏi giáo lý\, Kinh Thánh\, tham dự phụng vụ\, lãnh nhận bí tích? \nSống Lời Chúa: Đưa các phương thế nói trên vào chương trình sống để bồi dưỡng thường xuyên đức tin của bạn. \nCầu nguyện: Lạy Chúa\, lòng tin của chúng con mỏng dòn lắm\, xin thêm đức tin cho chúng con. Xin Lời Chúa trở thành ánh sáng soi đường con đi\, để cùng Chúa\, chúng con vượt qua những gian nan khốn khó đời này mà đạt tới sự sống đời đời. Amen.
URL:https://dongchuacuuthe.us/calendar/thu-hai-tuan-vii-phuc-sinh/
END:VEVENT
BEGIN:VEVENT
DTSTART;VALUE=DATE:20230522
DTEND;VALUE=DATE:20230523
DTSTAMP:20260425T083835
CREATED:20230522T054122Z
LAST-MODIFIED:20230522T054122Z
UID:7445-1684713600-1684799999@dongchuacuuthe.us
SUMMARY:Monday of the Seventh Week of Easter
DESCRIPTION:Reading 1\nActs 19:1-8\n\nWhile Apollos was in Corinth\,\nPaul traveled through the interior of the country\nand down to Ephesus where he found some disciples.\nHe said to them\,\n“Did you receive the Holy Spirit when you became believers?”\nThey answered him\,\n“We have never even heard that there is a Holy Spirit.”\nHe said\, “How were you baptized?”\nThey replied\, “With the baptism of John.”\nPaul then said\, “John baptized with a baptism of repentance\,\ntelling the people to believe in the one who was to come after him\,\nthat is\, in Jesus.”\nWhen they heard this\,\nthey were baptized in the name of the Lord Jesus.\nAnd when Paul laid his hands on them\,\nthe Holy Spirit came upon them\,\nand they spoke in tongues and prophesied.\nAltogether there were about twelve men. \nHe entered the synagogue\, and for three months debated boldly\nwith persuasive arguments about the Kingdom of God. \n\n\n\n\n\n\n\n\n\n\n\nResponsorial Psalm\nPs 68:2-3ab\, 4-5acd\, 6-7ab\n\nR. (33a) Sing to God\, O kingdoms of the earth.\nor:\nR. Alleluia.\nGod arises; his enemies are scattered\,\nand those who hate him flee before him.\nAs smoke is driven away\, so are they driven;\nas wax melts before the fire.\nR. Sing to God\, O kingdoms of the earth.\nor:\nR. Alleluia.\nBut the just rejoice and exult before God;\nthey are glad and rejoice.\nSing to God\, chant praise to his name;\nwhose name is the LORD.\nR. Sing to God\, O kingdoms of the earth.\nor:\nR. Alleluia.\nThe father of orphans and the defender of widows\nis God in his holy dwelling.\nGod gives a home to the forsaken;\nhe leads forth prisoners to prosperity.\nR. Sing to God\, O kingdoms of the earth.\nor:\nR. Alleluia.\n\n\n\n\n\n\n\n\n\n\n\nAlleluia\nCol 3:1\n\nR. Alleluia\, alleluia.\nIf then you were raised with Christ\,\nseek what is above\,\nwhere Christ is seated at the right hand of God.\nR. Alleluia\, alleluia.\n\n\n\n\n\n\n\n\n\n\n\nGospel\nJn 16:29-33\n\nThe disciples said to Jesus\,\n“Now you are talking plainly\, and not in any figure of speech.\nNow we realize that you know everything\nand that you do not need to have anyone question you.\nBecause of this we believe that you came from God.”\nJesus answered them\, “Do you believe now?\nBehold\, the hour is coming and has arrived\nwhen each of you will be scattered to his own home\nand you will leave me alone.\nBut I am not alone\, because the Father is with me.\nI have told you this so that you might have peace in me.\nIn the world you will have trouble\,\nbut take courage\, I have conquered the world.”
URL:https://dongchuacuuthe.us/calendar/monday-of-the-seventh-week-of-easter/
END:VEVENT
END:VCALENDAR