BEGIN:VCALENDAR
VERSION:2.0
PRODID:-//Dòng Chúa Cứu Thế Hải Ngoại - ECPv6.15.20//NONSGML v1.0//EN
CALSCALE:GREGORIAN
METHOD:PUBLISH
X-ORIGINAL-URL:https://dongchuacuuthe.us
X-WR-CALDESC:Events for Dòng Chúa Cứu Thế Hải Ngoại
REFRESH-INTERVAL;VALUE=DURATION:PT1H
X-Robots-Tag:noindex
X-PUBLISHED-TTL:PT1H
BEGIN:VTIMEZONE
TZID:America/Los_Angeles
BEGIN:DAYLIGHT
TZOFFSETFROM:-0800
TZOFFSETTO:-0700
TZNAME:PDT
DTSTART:20220313T100000
END:DAYLIGHT
BEGIN:STANDARD
TZOFFSETFROM:-0700
TZOFFSETTO:-0800
TZNAME:PST
DTSTART:20221106T090000
END:STANDARD
BEGIN:DAYLIGHT
TZOFFSETFROM:-0800
TZOFFSETTO:-0700
TZNAME:PDT
DTSTART:20230312T100000
END:DAYLIGHT
BEGIN:STANDARD
TZOFFSETFROM:-0700
TZOFFSETTO:-0800
TZNAME:PST
DTSTART:20231105T090000
END:STANDARD
BEGIN:DAYLIGHT
TZOFFSETFROM:-0800
TZOFFSETTO:-0700
TZNAME:PDT
DTSTART:20240310T100000
END:DAYLIGHT
BEGIN:STANDARD
TZOFFSETFROM:-0700
TZOFFSETTO:-0800
TZNAME:PST
DTSTART:20241103T090000
END:STANDARD
END:VTIMEZONE
BEGIN:VEVENT
DTSTART;VALUE=DATE:20230521
DTEND;VALUE=DATE:20230522
DTSTAMP:20260425T083236
CREATED:20230522T035401Z
LAST-MODIFIED:20230522T035425Z
UID:7341-1684627200-1684713599@dongchuacuuthe.us
SUMMARY:Lễ Chúa Giêsu Lên Trời Năm A
DESCRIPTION:BÀI ĐỌC I: Cv 1\, 1-11\n“Trước sự chứng kiến của các ông\, Người lên trời”. \nTrích sách Tông đồ Công vụ. \nHỡi Thêôphilê\, trong quyển thứ nhất\, tôi đã tường thuật tất cả những điều Đức Giêsu đã bắt đầu làm và giảng dạy\, cho đến ngày Người lên trời\, sau khi căn dặn các Tông đồ\, những kẻ Người đã tuyển chọn dưới sự hướng dẫn của Thánh Thần. Sau cuộc thương khó\, Người đã tỏ cho các ông thấy Người vẫn sống\, với nhiều bằng chứng’ Người đã hiện ra với các ông trong khoảng bốn mươi ngày và đàm đạo về Nước Thiên Chúa. Và trong một bữa ăn\, Người đã ra lệnh cho các ông chớ rời khỏi Giêrusalem\, nhưng hãy chờ đợi điều Chúa Cha đã hứa. Người nói: “Như các con đã nghe chính miệng Thầy rằng: Gioan đã làm phép rửa bằng nước\, phần các con\, ít ngày nữa\, các con sẽ chịu phép rửa trong Thánh Thần”. \nVậy các kẻ có mặt hỏi Người rằng: “Lạy Thầy\, có phải đã đến lúc Thầy khôi phục Nước Israel chăng?” Người bảo họ rằng: “Đâu phải việc các con hiểu biết thời gian hay kỳ hạn mà Cha đã ấn định do quyền bính Ngài. Nhưng các con sẽ nhận được sức mạnh của Thánh Thần ngự xuống trên các con\, và các con sẽ nên chứng nhân cho Thầy tại Giêrusalem\, trong tất cả xứ Giuđêa và Samaria\, và cho đến tận cùng trái đất”. Nói xong\, Người được cất lên trước mắt các ông\, và một đám mây bao phủ Người khuất mắt các ông. \nĐang khi các ông còn ngước mắt lên trời nhìn theo Người đang xa đi\, thì bỗng có hai người mặc áo trắng đứng gần các ông và nói rằng: “Hỡi người Galilê\, sao các ông còn đứng nhìn lên trời? Đức Giêsu\, Đấng vừa lìa các ông mà lên trời\, sẽ đến cùng một thể thức như các ông đã thấy Người lên trời”. Đó là lời Chúa. \nĐÁP CA: Tv 46\, 2-3. 6-7. 8-9\nĐáp: Thiên Chúa ngự lên giữa tiếng tưng bừng\, Chúa ngự lên trong tiếng kèn vang (c. 6). \nHoặc đọc: Alleluia \nXướng: 1) Hết thảy chư dân\, hãy vỗ tay\, hãy reo mừng Thiên Chúa tiếng reo vui! Vì Chúa là Đấng Tối cao\, khả uý\, Người là Đại Đế trên khắp trần gian. – Đáp. \n2) Thiên Chúa ngự lên giữa tiếng tưng bừng\, Chúa ngự lên trong tiếng kèn vang. Hãy ca mừng\, ca mừng Thiên Chúa’ hãy ca mừng\, ca mừng Vua ta! – Đáp. \n3) Vì Thiên Chúa là Vua khắp cõi trần gian\, hãy xướng ca vịnh mừng Người. Thiên Chúa thống trị trên các nước\, Thiên Chúa ngự trên ngai thánh của Người. – Đáp. \nBÀI ĐỌC II: Ep 1\, 17-23\n“Người đặt Ngài ngự bên hữu mình trên trời”. \nTrích thư của Thánh Phaolô Tông đồ gửi tín hữu Êphêxô. \nAnh em thân mến\, xin Thiên Chúa của Đức Giêsu Kitô\, Chúa chúng ta\, là Cha vinh hiển\, ban cho anh em thần trí khôn ngoan và mạc khải\, để nhận biết Người’ xin cho mắt tâm hồn anh em được sáng suốt\, để anh em biết thế nào là trông cậy vào ơn Người kêu gọi\, thế nào là sự phong phú gia nghiệp vinh quang nơi các thánh\, và thế nào là quyền năng vô cùng lớn lao của Người đối với chúng ta\, là những kẻ tin\, chiếu theo hành động của sức mạnh quyền năng Người\, công việc mà Chúa đã thực hiện trong Đức Kitô\, tức là làm cho Ngài từ cõi chết sống lại\, và đặt Ngài ngự bên hữu mình trên trời\, vượt trên mọi cấp trật\, các lãnh thần\, quyền thần\, dũng thần\, và quản thần\, vượt trên mọi danh hiệu được xưng hô cả đời này lẫn đời sau. Chúa khiến mọi sự quy phục dưới chân Ngài\, và tôn Ngài làm đầu toàn thể Hội Thánh là thân thể Ngài\, và là sự sung mãn của Đấng chu toàn mọi sự trong mọi người. Đó là lời Chúa. \nALLELUIA: Mt 28\, 19 và 20\nAlleluia\, alleluia! – Chúa phán: “Các con hãy đi giảng dạy muôn dân: Thầy sẽ ở cùng các con mọi ngày cho đến tận thế”. – Alleluia. \nPHÚC ÂM: Mt 28\, 16-20\n“Mọi quyền năng trên trời dưới đất đã được ban cho Thầy”. \nBài kết Tin Mừng Chúa Giêsu Kitô theo Thánh Matthêu. \nKhi ấy\, mười một môn đệ đi về Galilêa\, đến núi Chúa Giêsu đã chỉ trước. Khi thấy Người\, các ông thờ lạy Người\, nhưng có ít kẻ còn hoài nghi. Chúa Giêsu tiến lại nói với các ông rằng: “Mọi quyền năng trên trời dưới đất đã được ban cho Thầy. Vậy các con hãy đi giảng dạy muôn dân\, làm phép rửa cho họ nhân danh Cha\, và Con và Thánh Thần\, giảng dạy họ tuân giữ mọi điều Thầy đã truyền cho các con. Và đây Thầy ở cùng các con mọi ngày cho đến tận thế”. Đó là lời Chúa. \nCHÚA NHẬT TUẦN 7 PS – A \nChúa Thăng Thiên-Mt 28\,16-20\nRỒI NGÀI SẼ TRỞ LẠI \n“Anh em hãy đi và làm cho muôn dân trở thành môn đệ\, làm phép rửa cho họ nhân danh Chúa Cha\, Chúa Con và Chúa Thánh Thần\, dạy bảo họ tuân giữ mọi điều Thầy đã truyền cho anh em.” (Mt 28\,19-20) \nSuy niệm: Dân Do Thái ngày xưa đi từ Ai Cập vào đất Ca-na-an không theo con đường thẳng\, nhưng phải vòng quanh sa mạc\, vượt sông Gio-đan mới vào được Đất Hứa. Các môn đệ cũng muốn “theo đường chim bay” để “bay thẳng” lên thiên đàng\, nhưng Chúa không muốn thế. Chúa lên trời để định hướng lại cái nhìn của các môn đệ. Sứ mạng của Đức Ki-tô đã hoàn tất trên thập giá nhưng sứ mạng của các ông thì chưa. Các ông phải quay trở lại Ga-li-lê\, điểm hẹn của Chúa\, để tiếp tục sứ mạng của mình tại chính điểm mà Đức Giê-su đã bắt đầu và thực hiện mệnh lệnh tối hậu của Ngài: loan báo Tin Mừng cho mọi dân tộc. \nMời Bạn: Mừng mầu nhiệm Chúa về trời\, bạn bước vào một mùa vọng mới\, mùa mong đợi Đức Ki-tô lại đến. Chúng ta\, “những người Ga-li-lê” ngày nay không được phép cứ đứng nhìn trời mà không làm gì cả\, nhưng hãy quay trở lại công trường của mình là cuộc sống trần thế này\, sắn tay áo xây dựng nó xứng tầm với “thành đô Giê-ru-sa-lem mới” trong ngày Đức Ki-tô lại đến. \nChia sẻ: Phác thảo một số việc cụ thể bạn có thể làm để đưa mệnh lệnh của Chúa trước khi về trời áp dụng vào cuộc sống của bạn ngày hôm nay. \nSống Lời Chúa: Bạn làm thật tốt bổn phận của bạn ngày hôm nay để cầu nguyện cho việc rao giảng Tin Mừng. \nCầu nguyện: Lạy Chúa\, xin làm cho chúng con trở thành tông đồ\, để con loan báo Tin Mừng Chúa cho chính những người chúng con gặp gỡ. Amen.
URL:https://dongchuacuuthe.us/calendar/le-chua-giesu-len-troi-nam-a/
END:VEVENT
BEGIN:VEVENT
DTSTART;VALUE=DATE:20230521
DTEND;VALUE=DATE:20230522
DTSTAMP:20260425T083236
CREATED:20230522T053937Z
LAST-MODIFIED:20230522T053937Z
UID:7443-1684627200-1684713599@dongchuacuuthe.us
SUMMARY:The Ascension of the Lord  Ascension
DESCRIPTION:Reading 1\nActs 1:1-11\n\n\nIn the first book\, Theophilus\,\nI dealt with all that Jesus did and taught\nuntil the day he was taken up\,\nafter giving instructions through the Holy Spirit\nto the apostles whom he had chosen.\nHe presented himself alive to them\nby many proofs after he had suffered\,\nappearing to them during forty days\nand speaking about the kingdom of God.\nWhile meeting with them\,\nhe enjoined them not to depart from Jerusalem\,\nbut to wait for “the promise of the Father\nabout which you have heard me speak;\nfor John baptized with water\,\nbut in a few days you will be baptized with the Holy Spirit.” \nWhen they had gathered together they asked him\,\n“Lord\, are you at this time going to restore the kingdom to Israel?”\nHe answered them\, “It is not for you to know the times or seasons\nthat the Father has established by his own authority.\nBut you will receive power when the Holy Spirit comes upon you\,\nand you will be my witnesses in Jerusalem\,\nthroughout Judea and Samaria\,\nand to the ends of the earth.”\nWhen he had said this\, as they were looking on\,\nhe was lifted up\, and a cloud took him from their sight.\nWhile they were looking intently at the sky as he was going\,\nsuddenly two men dressed in white garments stood beside them.\nThey said\, “Men of Galilee\,\nwhy are you standing there looking at the sky?\nThis Jesus who has been taken up from you into heaven\nwill return in the same way as you have seen him going into heaven.” \n\n\n\n\n\n\n\n\n\n\n\n\nResponsorial Psalm\nPs 47:2-3\, 6-7\, 8-9\n\n\nR. (6) God mounts his throne to shouts of joy: a blare of trumpets for the Lord.\nor:\nR. Alleluia.\nAll you peoples\, clap your hands\,\nshout to God with cries of gladness\,\nFor the LORD\, the Most High\, the awesome\,\nis the great king over all the earth.\nR. God mounts his throne to shouts of joy: a blare of trumpets for the Lord.\nor:\nR. Alleluia.\nGod mounts his throne amid shouts of joy;\nthe LORD\, amid trumpet blasts.\nSing praise to God\, sing praise;\nsing praise to our king\, sing praise.\nR. God mounts his throne to shouts of joy: a blare of trumpets for the Lord.\nor:\nR. Alleluia.\nFor king of all the earth is God;\nsing hymns of praise.\nGod reigns over the nations\,\nGod sits upon his holy throne.\nR. God mounts his throne to shouts of joy: a blare of trumpets for the Lord.\nor:\nR. Alleluia. \n\n\n\n\n\n\n\n\n\n\n\n\nReading 2\nEph 1:17-23\n\n\nBrothers and sisters:\nMay the God of our Lord Jesus Christ\, the Father of glory\,\ngive you a Spirit of wisdom and revelation\nresulting in knowledge of him.\nMay the eyes of your hearts be enlightened\,\nthat you may know what is the hope that belongs to his call\,\nwhat are the riches of glory\nin his inheritance among the holy ones\,\nand what is the surpassing greatness of his power\nfor us who believe\,\nin accord with the exercise of his great might\,\nwhich he worked in Christ\,\nraising him from the dead\nand seating him at his right hand in the heavens\,\nfar above every principality\, authority\, power\, and dominion\,\nand every name that is named\nnot only in this age but also in the one to come.\nAnd he put all things beneath his feet\nand gave him as head over all things to the church\,\nwhich is his body\,\nthe fullness of the one who fills all things in every way. \n\n\n\n\n\n\n\n\n\n\n\n\nAlleluia\nMt 28:19a\, 20b\n\n\nR. Alleluia\, alleluia.\nGo and teach all nations\, says the Lord;\nI am with you always\, until the end of the world.\nR. Alleluia\, alleluia. \n\n\n\n\n\n\n\n\n\n\n\n\nGospel\nMt 28:16-20\n\n\nThe eleven disciples went to Galilee\,\nto the mountain to which Jesus had ordered them.\nWhen they saw him\, they worshiped\, but they doubted.\nThen Jesus approached and said to them\,\n“All power in heaven and on earth has been given to me.\nGo\, therefore\, and make disciples of all nations\,\nbaptizing them in the name of the Father\,\nand of the Son\, and of the Holy Spirit\,\nteaching them to observe all that I have commanded you.\nAnd behold\, I am with you always\, until the end of the age.”
URL:https://dongchuacuuthe.us/calendar/the-ascension-of-the-lord-ascension/
END:VEVENT
END:VCALENDAR